BEGIN:VCALENDAR
VERSION:2.0
PRODID:-//PsalmFM - ECPv6.15.20//NONSGML v1.0//EN
CALSCALE:GREGORIAN
METHOD:PUBLISH
X-WR-CALNAME:PsalmFM
X-ORIGINAL-URL:https://psalmfm.org
X-WR-CALDESC:Events for PsalmFM
REFRESH-INTERVAL;VALUE=DURATION:PT1H
X-Robots-Tag:noindex
X-PUBLISHED-TTL:PT1H
BEGIN:VTIMEZONE
TZID:UTC
BEGIN:STANDARD
TZOFFSETFROM:+0000
TZOFFSETTO:+0000
TZNAME:UTC
DTSTART:20230101T000000
END:STANDARD
END:VTIMEZONE
BEGIN:VEVENT
DTSTART;TZID=UTC:20240701T020000
DTEND;TZID=UTC:20240701T230000
DTSTAMP:20260425T033723
CREATED:20240624T161603Z
LAST-MODIFIED:20240624T161603Z
UID:9489-1719799200-1719874800@psalmfm.org
SUMMARY:RiverFest- Chris Kroeze Concert
DESCRIPTION:On July 1\, CHRIS KROEZE is at RIVERFEST in INTERNATIONAL FALLS!!!\nCome join in on the fun!\nIrvin N. Anderson Amphitheater\, East of IFallsGATES OPEN AT 2pmFood TrucksCornhole TournamentVolleyballCar ShowMusicPicnics welcomeNo pets.FREE ADMISSION!!!\nCHRIS KROEZE music starts at 7:30 pmFort Frances fireworks at 10:00 or so…
URL:https://psalmfm.org/event/riverfest-chris-kroeze-concert/
END:VEVENT
BEGIN:VEVENT
DTSTART;TZID=UTC:20240701T080000
DTEND;TZID=UTC:20240701T170000
DTSTAMP:20260425T033723
CREATED:20240517T152600Z
LAST-MODIFIED:20240611T154736Z
UID:9207-1719820800-1719853200@psalmfm.org
SUMMARY:United Way of NE MN Volunteer Groups
DESCRIPTION:United Way of NE MN connects local community groups to volunteer with their new website: unitedwaynemn.org/volunteer \nSet up a profile and post your volunteer opportunities in minutes.
URL:https://psalmfm.org/event/united-way-of-ne-mn-volunteer-groups/
END:VEVENT
BEGIN:VEVENT
DTSTART;TZID=UTC:20240701T100000
DTEND;TZID=UTC:20240701T180000
DTSTAMP:20260425T033723
CREATED:20240624T154409Z
LAST-MODIFIED:20240624T154409Z
UID:9467-1719828000-1719856800@psalmfm.org
SUMMARY:Bloodmobile- Grand Rapids
DESCRIPTION:Monday\, July 01\, 2024 \n10:00 am – 06:00 pm \nYMCA \n400 River Rd\nYMCA\nGrand Rapids\, MN 55744 \nPrimary Blood Drive Coordinator \nLori Whitted\nEmail: lori@eldercircle.org\nPhone: 218-999-9233 ext.278
URL:https://psalmfm.org/event/bloodmobile-grand-rapids-5/
END:VEVENT
END:VCALENDAR