BEGIN:VCALENDAR
VERSION:2.0
PRODID:-//PsalmFM - ECPv6.15.20//NONSGML v1.0//EN
CALSCALE:GREGORIAN
METHOD:PUBLISH
X-ORIGINAL-URL:https://psalmfm.org
X-WR-CALDESC:Events for PsalmFM
REFRESH-INTERVAL;VALUE=DURATION:PT1H
X-Robots-Tag:noindex
X-PUBLISHED-TTL:PT1H
BEGIN:VTIMEZONE
TZID:UTC
BEGIN:STANDARD
TZOFFSETFROM:+0000
TZOFFSETTO:+0000
TZNAME:UTC
DTSTART:20230101T000000
END:STANDARD
END:VTIMEZONE
BEGIN:VEVENT
DTSTART;TZID=UTC:20240703T120000
DTEND;TZID=UTC:20240703T123000
DTSTAMP:20260425T033811
CREATED:20240625T150351Z
LAST-MODIFIED:20240625T151336Z
UID:9494-1720008000-1720009800@psalmfm.org
SUMMARY:Bemidji Area Church Musicians Recital
DESCRIPTION:The 37th season of the Summer Recital Series presented by the Bemidji Area Church Musicians (BACM) continues on Wednesday July 3rd\, 12:00 noon\, at Church of Christ\, located at 692 Mag Seven Ct SW. Performing will be Abbi Cobb\, piano and violin and Emily Mathew\, piano. \nA luncheon will follow the 30-minute concert with a price to be announced. \nA free-will offering will be received at the door for the Scholarship programs of the Bemidji Area Church Musicians. \nThe public is cordially invited to all of the recitals in the season. For further information call Barbara Fisher (218-556-0098) or Carol L. Johnson (218-751-0415).
URL:https://psalmfm.org/event/bemidji-area-church-musicians-recital/
END:VEVENT
END:VCALENDAR