BEGIN:VCALENDAR
VERSION:2.0
PRODID:-//PsalmFM - ECPv6.15.20//NONSGML v1.0//EN
CALSCALE:GREGORIAN
METHOD:PUBLISH
X-ORIGINAL-URL:https://psalmfm.org
X-WR-CALDESC:Events for PsalmFM
REFRESH-INTERVAL;VALUE=DURATION:PT1H
X-Robots-Tag:noindex
X-PUBLISHED-TTL:PT1H
BEGIN:VTIMEZONE
TZID:UTC
BEGIN:STANDARD
TZOFFSETFROM:+0000
TZOFFSETTO:+0000
TZNAME:UTC
DTSTART:20230101T000000
END:STANDARD
END:VTIMEZONE
BEGIN:VEVENT
DTSTART;TZID=UTC:20240706T120000
DTEND;TZID=UTC:20240706T150000
DTSTAMP:20260425T033813
CREATED:20240529T144818Z
LAST-MODIFIED:20240529T144818Z
UID:9280-1720267200-1720278000@psalmfm.org
SUMMARY:Baudette Car and Bike Show
DESCRIPTION:The Baudette Car and Bike Show organized by Lakeroad Cruisers will be Saturday\, July 6th from noon to 3. Registration begins at 11am. Entry fee is donation to Lake of the Woods Veterans Memorial at the LOW County Fairgrounds. For more information call Kevin at 21-434-0176.
URL:https://psalmfm.org/event/baudette-car-and-bike-show/
END:VEVENT
END:VCALENDAR