BEGIN:VCALENDAR
VERSION:2.0
PRODID:-//PsalmFM - ECPv6.15.20//NONSGML v1.0//EN
CALSCALE:GREGORIAN
METHOD:PUBLISH
X-ORIGINAL-URL:https://psalmfm.org
X-WR-CALDESC:Events for PsalmFM
REFRESH-INTERVAL;VALUE=DURATION:PT1H
X-Robots-Tag:noindex
X-PUBLISHED-TTL:PT1H
BEGIN:VTIMEZONE
TZID:UTC
BEGIN:STANDARD
TZOFFSETFROM:+0000
TZOFFSETTO:+0000
TZNAME:UTC
DTSTART:20230101T000000
END:STANDARD
END:VTIMEZONE
BEGIN:VEVENT
DTSTART;TZID=UTC:20240710T103000
DTEND;TZID=UTC:20240710T180000
DTSTAMP:20260425T033811
CREATED:20240624T154845Z
LAST-MODIFIED:20240624T154845Z
UID:9481-1720607400-1720634400@psalmfm.org
SUMMARY:Bloodmobile- Ely
DESCRIPTION:Wednesday\, July 10\, 2024 \n10:30 am – 06:00 pm \nEly Bloomenson Community Hospital\n328 W. Conan St.\nBloodmobile\nEly\, MN 55731 \nPrimary Blood Drive Coordinator \nMary Wognum\nEmail: mwognum@ebch.org\nPhone: 218-365-8751
URL:https://psalmfm.org/event/bloodmobile-ely/
END:VEVENT
BEGIN:VEVENT
DTSTART;TZID=UTC:20240710T120000
DTEND;TZID=UTC:20240710T130000
DTSTAMP:20260425T033811
CREATED:20240625T150713Z
LAST-MODIFIED:20240625T150713Z
UID:9496-1720612800-1720616400@psalmfm.org
SUMMARY:Bemidji Area Church Musicians Recital
DESCRIPTION:The 37th season of the Summer Recital Series presented by the Bemidji Area Church Musicians (BACM) continues on Wednesday July 10th\, 12:00 noon\, at the First Baptist Church. Performing will be Wade Martin\, vocalist\, guitar. Amanda Willis-Martin\, piano. Mathison Martin\, piano. \nA luncheon will follow the 30-minute concert with a price to be announced.  First Baptist Church is located at 1555 Paul Bunyan Dr. NW. \nA free-will offering will be received at the door for the Scholarship programs of the Bemidji Area Church Musicians. \nThe public is cordially invited to all of the recitals in the season. For further information call Barbara Fisher (218-556-0098) or Carol L. Johnson (218-751-0415).
URL:https://psalmfm.org/event/bemidji-area-church-musicians-recital-2/
END:VEVENT
BEGIN:VEVENT
DTSTART;TZID=UTC:20240710T140000
DTEND;TZID=UTC:20240710T180000
DTSTAMP:20260425T033811
CREATED:20240530T173528Z
LAST-MODIFIED:20240530T173528Z
UID:9289-1720620000-1720634400@psalmfm.org
SUMMARY:Will Hale & the Tadpole Parade
DESCRIPTION:The Arrowhead Library System is pleased to host children’s musician Will Hale & the Tadpole Parade\, a free program being offered at the following locations: \nWednesday\, July 10\, 2:00pm\nBuhl Public Library \nWednesday\, July 10\, 5:00pm\nKeewatin Public Library \nThursday\, July 11\, 10:30am\nMountain Iron Public Library \nThursday\, July 11\, 2:00pm\nVirginia Public Library \nThursday\, July 11\, 5:00pm\nEveleth Public Library \nMonday\, July 15\, 3:00pm\nBabbitt Public Library \nTuesday\, July 16\, 10:30am\nBaudette Public Library \nTuesday\, July 16\, 3:30pm\nInternational Falls Public Library \nWednesday\, July 17\, 10:30am\nCalumet Public Library \nWednesday\, July 17\, 2:00pm\nGrand Rapids Area Library \nThursday\, July 18\, 10:30am\nAurora Public Library \nThursday\, July 18\, 2:00pm\nHoyt Lakes Public Library \nMonday\, July 22\, 10:30am\nCook Public Library \nMonday\, July 22\, 3:00pm\nEly Public Library \nWednesday\, July 24\, 10:30am\nChisholm Public Library \nWednesday\, July 24\, 2:00pm\nMarble Public Library \nThursday\, July 25\, 10:30am\nColeraine Public Library \nThursday\, July 25\, 2:00pm\nHibbing Public Library \nWill Hale and the Tadpole Parade create a fun atmosphere filled with plenty of audience participation\, excitement\, and dynamic learning! Kids are the rock stars when they clap\, dance and sing! Will Hale’s concerts are kid-tested and parent approved. This free program is 45 minutes long and is geared towards families with children 2-10 years old. \nThis program\, sponsored by Arrowhead Library System\, was funded in part or in whole with money from Minnesota’s Arts and Cultural Heritage Fund (ACFH). To learn more about Arrowhead Legacy Events\, please see our calendar at www.alslib.info or like us on Facebook at www.facebook.com/alslibinfo.
URL:https://psalmfm.org/event/will-hale-the-tadpole-parade/
END:VEVENT
END:VCALENDAR