BEGIN:VCALENDAR
VERSION:2.0
PRODID:-//PsalmFM - ECPv6.15.20//NONSGML v1.0//EN
CALSCALE:GREGORIAN
METHOD:PUBLISH
X-WR-CALNAME:PsalmFM
X-ORIGINAL-URL:https://psalmfm.org
X-WR-CALDESC:Events for PsalmFM
REFRESH-INTERVAL;VALUE=DURATION:PT1H
X-Robots-Tag:noindex
X-PUBLISHED-TTL:PT1H
BEGIN:VTIMEZONE
TZID:UTC
BEGIN:STANDARD
TZOFFSETFROM:+0000
TZOFFSETTO:+0000
TZNAME:UTC
DTSTART:20230101T000000
END:STANDARD
END:VTIMEZONE
BEGIN:VEVENT
DTSTART;TZID=UTC:20240712T103000
DTEND;TZID=UTC:20240712T120000
DTSTAMP:20260425T033722
CREATED:20221219T155312Z
LAST-MODIFIED:20240710T184515Z
UID:6731-1720780200-1720785600@psalmfm.org
SUMMARY:Arthritis Foundation Exercise Program
DESCRIPTION:Rainy Lake Medical Center in International Falls offers a no cost\, Arthritis Foundation Exercise Program every Tuesday and Friday from 10:45-11:45 at the Good Samaritan Society on Keenan Drive.
URL:https://psalmfm.org/event/arthritis-foundation-exercise-program/
END:VEVENT
BEGIN:VEVENT
DTSTART;TZID=UTC:20240712T120000
DTEND;TZID=UTC:20240712T163000
DTSTAMP:20260425T033722
CREATED:20240624T154314Z
LAST-MODIFIED:20240624T154314Z
UID:9465-1720785600-1720801800@psalmfm.org
SUMMARY:Bloodmobile- Grand Rapids
DESCRIPTION:Friday\, July 12\, 2024 \n12:00 pm – 04:30 pm \nGrand Rapids High School \n800 Conifer Drive\nBloodmobile\nGrand Rapids\, MN 55744 \nPrimary Blood Drive Coordinator \nKatie Thunshelle\nEmail: kthunshelle@isd318.org\nPhone: 218-327-5760 ext.41521
URL:https://psalmfm.org/event/bloodmobile-grand-rapids-4/
END:VEVENT
BEGIN:VEVENT
DTSTART;TZID=UTC:20240712T180000
DTEND;TZID=UTC:20240712T210000
DTSTAMP:20260425T033722
CREATED:20240606T143814Z
LAST-MODIFIED:20240606T143814Z
UID:9338-1720807200-1720818000@psalmfm.org
SUMMARY:Band & Burgers in Birchdale
DESCRIPTION:Come and listen to Paradigm band from Park Rapids play a variety of music from through the decades in the pavilion. Enjoy a burger basket and visiting with neighbors and friends. $20 entry includes burger basket BYOB.
URL:https://psalmfm.org/event/band-burgers-in-birchdale/
END:VEVENT
END:VCALENDAR