BEGIN:VCALENDAR
VERSION:2.0
PRODID:-//PsalmFM - ECPv6.15.20//NONSGML v1.0//EN
CALSCALE:GREGORIAN
METHOD:PUBLISH
X-ORIGINAL-URL:https://psalmfm.org
X-WR-CALDESC:Events for PsalmFM
REFRESH-INTERVAL;VALUE=DURATION:PT1H
X-Robots-Tag:noindex
X-PUBLISHED-TTL:PT1H
BEGIN:VTIMEZONE
TZID:UTC
BEGIN:STANDARD
TZOFFSETFROM:+0000
TZOFFSETTO:+0000
TZNAME:UTC
DTSTART:20230101T000000
END:STANDARD
END:VTIMEZONE
BEGIN:VEVENT
DTSTART;TZID=UTC:20240726T080000
DTEND;TZID=UTC:20240727T170000
DTSTAMP:20260425T033810
CREATED:20240628T180214Z
LAST-MODIFIED:20240628T180214Z
UID:9527-1721980800-1722099600@psalmfm.org
SUMMARY:True Hope Fellowship Pro-Life Rummage Sale
DESCRIPTION:Ture Hope Fellowship will be having a Pro-Life Fundraiser Rummage Sale on July 26th and 27th from 8-5. Bake sale\, coffee and so much more. All proceeds will go towards God’s Choice Pro-Life Minisrty. \nTrue Hope Fellowship is located at 1 Sunrise Drive in Virginia.
URL:https://psalmfm.org/event/true-hope-fellowship-pro-life-rummage-sale/
END:VEVENT
END:VCALENDAR