BEGIN:VCALENDAR
VERSION:2.0
PRODID:-//PsalmFM - ECPv6.15.20//NONSGML v1.0//EN
CALSCALE:GREGORIAN
METHOD:PUBLISH
X-WR-CALNAME:PsalmFM
X-ORIGINAL-URL:https://psalmfm.org
X-WR-CALDESC:Events for PsalmFM
REFRESH-INTERVAL;VALUE=DURATION:PT1H
X-Robots-Tag:noindex
X-PUBLISHED-TTL:PT1H
BEGIN:VTIMEZONE
TZID:UTC
BEGIN:STANDARD
TZOFFSETFROM:+0000
TZOFFSETTO:+0000
TZNAME:UTC
DTSTART:20230101T000000
END:STANDARD
END:VTIMEZONE
BEGIN:VEVENT
DTSTART;TZID=UTC:20240729T100000
DTEND;TZID=UTC:20240731T190000
DTSTAMP:20260425T015119
CREATED:20240724T152710Z
LAST-MODIFIED:20240729T151413Z
UID:9608-1722247200-1722452400@psalmfm.org
SUMMARY: Peregrine Falcons with Jackie Fallon
DESCRIPTION:The Arrowhead Library System is pleased to present Peregrine Falcons with Jackie Fallon\, a free program being offered at the following locations: \nWednesday\, July 24\, 1:00 p.m. at Grand Rapids Area Library \nWednesday\, July 24\, 6:00 p.m. at Keewatin Public Library \nThursday\, July 25\, 11:00 a.m. at Northome School hosted by the Northome City Library & ALS \nMonday\, July 29\, 1:00 p.m. at Mountain Iron Senior Citizens Center\, hosted by Mountain Iron Public Library – NEW LOCATION \nMonday\, July 29\, 4:00 p.m. at Marble Public Library \nMonday\, July 29\, 6:00 p.m. at Calumet Public Library \nTuesday\, July 30\, 10:30 a.m. at Baudette Public Library \nTuesday\, July 30\, 3:30 p.m. at International Falls Public Library \nWednesday\, July 31\, 10:00 a.m. at Cook Community Center\, hosted by Cook Public Library – NEW LOCATION \nWednesday\, July 31\, 2:30 p.m. at Ely Public Library \nWednesday\, July 31\, 6:00 p.m. at Eveleth Public Library \nThe Arrowhead Library System is pleased to present Peregrine Falcons with Jackie Fallon.Join peregrine falcon researcher\, Jackie Fallon\, and her live birds for an up-close look at several types of raptors. Participants will learn the past\, present\, and future ofperegrine falcons in Minnesota\, why they are important\, and what you can do to help them survive in the 21st Century. Make sure to bring a camera! Family-friendly programfor ages 8 to adult.
URL:https://psalmfm.org/event/peregrine-falcons-with-jackie-fallon/
END:VEVENT
BEGIN:VEVENT
DTSTART;TZID=UTC:20240730T090000
DTEND;TZID=UTC:20240802T113000
DTSTAMP:20260425T015119
CREATED:20240724T205246Z
LAST-MODIFIED:20240725T184858Z
UID:9620-1722330000-1722598200@psalmfm.org
SUMMARY:VBS at Crane Lake
DESCRIPTION:Crane Lake Chapel invites kids ages 4-12 to Vacation Bible School from 9-11:30 at the chapel. No need to register\, just show up July 30th-Aug. 2nd for the fun! \n 
URL:https://psalmfm.org/event/crane-lake-vbs/
LOCATION:Crane Lake Chapel\, 7399 Handberg Road\, Crane Lake\, MN
END:VEVENT
BEGIN:VEVENT
DTSTART;TZID=UTC:20240731T080000
DTEND;TZID=UTC:20240731T170000
DTSTAMP:20260425T015119
CREATED:20240712T185519Z
LAST-MODIFIED:20240712T185519Z
UID:9573-1722412800-1722445200@psalmfm.org
SUMMARY:Crazy Daze-Ifalls
DESCRIPTION:Crazy Daze in International Falls will be Wednesday\, July 31st. Live music\, food\, kid zones\, and street vendors. Most stores will open by 8am. For more information or to become a vendor visit ifallschamber.com/crazy-daze.
URL:https://psalmfm.org/event/crazy-daze-ifalls/
END:VEVENT
BEGIN:VEVENT
DTSTART;TZID=UTC:20240731T110000
DTEND;TZID=UTC:20240731T130000
DTSTAMP:20260425T015119
CREATED:20240628T181408Z
LAST-MODIFIED:20240628T181408Z
UID:9531-1722423600-1722430800@psalmfm.org
SUMMARY:Seniors Vendor Expo- Grand Rapids
DESCRIPTION:Join ElderCircle and The YMCA in Celebrating Older Adults with a vendor expo\, free lunch\, and award announcement for the 2023 Itasca County Outstanding Senior Volunteer on July 31st from 11-1 at the YMCA Gymnasium in Grand Rapids.
URL:https://psalmfm.org/event/seniors-vendor-expo-grand-rapids/
END:VEVENT
BEGIN:VEVENT
DTSTART;TZID=UTC:20240731T120000
DTEND;TZID=UTC:20240731T130000
DTSTAMP:20260425T015119
CREATED:20240625T151518Z
LAST-MODIFIED:20240625T151518Z
UID:9504-1722427200-1722430800@psalmfm.org
SUMMARY:Bemidji Area Church Musicians Recital
DESCRIPTION:The 37th season of the Summer Recital Series presented by the Bemidji Area Church Musicians (BACM) continues on Wednesday July 31st\, 12:00 noon\, at New Salem Lutheran Church. Performing will be the New Salem Choir; Cheryl Durant\, piano; Sonya Kraft\, flute; Traci Djonne Schanke\, soprano. \nA luncheon will follow the 30-minute concert with a price to be announced. New Salem Lutheran Church is located at 7491 Island View Dr NE. \nA free-will offering will be received at the door for the Scholarship programs of the Bemidji Area Church Musicians. \nThe public is cordially invited to all of the recitals in the season. For further information call Barbara Fisher (218-556-0098) or Carol L. Johnson (218-751-0415).
URL:https://psalmfm.org/event/bemidji-area-church-musicians-recital-5/
END:VEVENT
BEGIN:VEVENT
DTSTART;TZID=UTC:20240731T140000
DTEND;TZID=UTC:20240731T190000
DTSTAMP:20260425T015119
CREATED:20240711T152605Z
LAST-MODIFIED:20240711T152605Z
UID:9550-1722434400-1722452400@psalmfm.org
SUMMARY:Marcell Community Church Kids Event in the Park
DESCRIPTION:Theme: Boot Camp- Put on the Full Armor of God \nWhen: July 31st from 2-7 at the Marcell Park with a family picnic at 5:45 \nFor: Preschool-7th graders. Kids who are 3-4 years old must have a parent with them. \nWhat: Obstacle course\, bouncy house\, craft\, fun run\, gaga ball pit\, field games\, bible lessons and a picnic. \n*kids are encouraged to wear their tennis shoes and camouflage.
URL:https://psalmfm.org/event/marcell-community-church-kids-event-in-the-park/
END:VEVENT
BEGIN:VEVENT
DTSTART;TZID=UTC:20240731T163000
DTEND;TZID=UTC:20240731T193000
DTSTAMP:20260425T015119
CREATED:20240729T152415Z
LAST-MODIFIED:20240729T152415Z
UID:9635-1722443400-1722454200@psalmfm.org
SUMMARY:Bike Rodeo- Warroad
DESCRIPTION:Join the Bike Train and practice safety around the city of Warroad at the Bike Rodeo on Wednesday\, July 31st from 4:30-7:30 at the Doug’s Supermarket Parking Lot. Warroad Police Department will lead a bicycle safety session and bike registration. Ski and Bike Shop will be on site to support bike maintenance and repair needs. Register to win a bike helmet.
URL:https://psalmfm.org/event/bike-rodeo-warroad/
END:VEVENT
BEGIN:VEVENT
DTSTART;TZID=UTC:20240731T170000
DTEND;TZID=UTC:20240731T190000
DTSTAMP:20260425T015119
CREATED:20240718T163840Z
LAST-MODIFIED:20240718T164302Z
UID:9588-1722445200-1722452400@psalmfm.org
SUMMARY:Free Air Show over Lake Superior
DESCRIPTION:Air Spectacular\, featuring the Canadian Forces Snowbirds\, presented by Enbridge Energy will be in Duluth on July 31st starting at 5pm. \nNo ticket necessary! Watch this stunning viewing experience from just about anywhere in downtown or Canal Park\, Duluth. \n 
URL:https://psalmfm.org/event/free-air-show-over-lake-superior/
END:VEVENT
END:VCALENDAR