BEGIN:VCALENDAR
VERSION:2.0
PRODID:-//PsalmFM - ECPv6.15.20//NONSGML v1.0//EN
CALSCALE:GREGORIAN
METHOD:PUBLISH
X-ORIGINAL-URL:https://psalmfm.org
X-WR-CALDESC:Events for PsalmFM
REFRESH-INTERVAL;VALUE=DURATION:PT1H
X-Robots-Tag:noindex
X-PUBLISHED-TTL:PT1H
BEGIN:VTIMEZONE
TZID:UTC
BEGIN:STANDARD
TZOFFSETFROM:+0000
TZOFFSETTO:+0000
TZNAME:UTC
DTSTART:20230101T000000
END:STANDARD
END:VTIMEZONE
BEGIN:VEVENT
DTSTART;TZID=UTC:20240805T100000
DTEND;TZID=UTC:20240809T120000
DTSTAMP:20260425T021231
CREATED:20240718T162928Z
LAST-MODIFIED:20240723T155209Z
UID:9586-1722852000-1723204800@psalmfm.org
SUMMARY:Babbitt Assembly of God VBS
DESCRIPTION:Vacation Bible School at Babbitt Assembly of God Church is Monday August 5th thru Friday August 9th from 10:00 am to Noon. This year’s theme SCUBA: Diving into friendship with God.\nTake kids ages 4 to 12 deep into an amazing undersea adventure where they’ll experience the ever-flowing\, never-ending love of God. At Scuba VBS\, kids will be immersed in the Word and discover what living water is really all about!\nWhile playing games at Reef Rec\, tasting Tidal treats and discovering deep Bible adventures\, kids will personalize their faith in our loving God. Make plans to have your kids attend by registering online: myvbs.org/bag or calling/texting Pastor Ben 218-404-3414.
URL:https://psalmfm.org/event/babbitt-assembly-of-god-vbs/
END:VEVENT
BEGIN:VEVENT
DTSTART;TZID=UTC:20240806T160000
DTEND;TZID=UTC:20240806T190000
DTSTAMP:20260425T021231
CREATED:20240719T144151Z
LAST-MODIFIED:20240719T144151Z
UID:9594-1722960000-1722970800@psalmfm.org
SUMMARY:National Night Out-Ifalls
DESCRIPTION:National Night Out will be August 6th from 4-7 at Smokey Bear Park in Int’l Falls.
URL:https://psalmfm.org/event/national-night-out-ifalls/
END:VEVENT
BEGIN:VEVENT
DTSTART;TZID=UTC:20240806T173000
DTEND;TZID=UTC:20240806T193000
DTSTAMP:20260425T021231
CREATED:20240724T153341Z
LAST-MODIFIED:20240724T153341Z
UID:9610-1722965400-1722972600@psalmfm.org
SUMMARY:National Night Out - Bemidji
DESCRIPTION:National Night Out is on August 6th from 5:30-7:30 at the Bemidji Boys & Girls Club\, this is a 100% free event for the public.\nDetails include: FREE MEAL PROVIDED! AN EVENT FILLED WITH FUNFOR THE WHOLE FAMILY! BOUNCE HOUSES\, DUNKTANK\, FIRST RESPONDER VEHICLES/DEMOS\,RESOURCE FAIR\, AND MUCH MORE!\nFor parking\, please park in the Boys & Girls Club parking lot or on the street.
URL:https://psalmfm.org/event/national-night-out-bemidji/
END:VEVENT
BEGIN:VEVENT
DTSTART;TZID=UTC:20240806T173000
DTEND;TZID=UTC:20240806T200000
DTSTAMP:20260425T021231
CREATED:20240730T175616Z
LAST-MODIFIED:20240730T175616Z
UID:9677-1722965400-1722974400@psalmfm.org
SUMMARY:National Night Out- Babbitt
DESCRIPTION:Babbitt Area residents are invited to attend National Night Out. Happening on Tuesday\, August 6th starting at 5:30 pm open house style Progressive Meal. Enjoy visiting with your neighbors at each Church location of the free meal. End Gathering & cookies @ Behind the Assembly of God (29 Babbitt Rd.)\nFire & Ambulance Trucks and rigs will be there;\nGet to know your Local Law Enforcement\, Fire & EMS personnel.\nHang out with Police in the Park!\n7:00 pm DRAWINGS for PRIZES\nSponsored by the Babbitt Clergy Association. For questions please contact Pastor Ben Morgan (218)404-3414
URL:https://psalmfm.org/event/national-night-out-babbitt/
END:VEVENT
END:VCALENDAR