BEGIN:VCALENDAR
VERSION:2.0
PRODID:-//PsalmFM - ECPv6.15.20//NONSGML v1.0//EN
CALSCALE:GREGORIAN
METHOD:PUBLISH
X-WR-CALNAME:PsalmFM
X-ORIGINAL-URL:https://psalmfm.org
X-WR-CALDESC:Events for PsalmFM
REFRESH-INTERVAL;VALUE=DURATION:PT1H
X-Robots-Tag:noindex
X-PUBLISHED-TTL:PT1H
BEGIN:VTIMEZONE
TZID:UTC
BEGIN:STANDARD
TZOFFSETFROM:+0000
TZOFFSETTO:+0000
TZNAME:UTC
DTSTART:20230101T000000
END:STANDARD
END:VTIMEZONE
BEGIN:VEVENT
DTSTART;TZID=UTC:20240810T110000
DTEND;TZID=UTC:20240810T140000
DTSTAMP:20260425T020057
CREATED:20240729T153829Z
LAST-MODIFIED:20240729T153829Z
UID:9637-1723287600-1723298400@psalmfm.org
SUMMARY:Smokey Bear's 80th Birthday Party- Big Bog State Recreation Area
DESCRIPTION:Come on out to Big Bog to celebrate Smokey Bear’s 80th birthday! Follow a treasure map to learn about the history of Smokey Bear and the fire towers. Meet wildland firefighters and find out what they do to protect our forests and see fire trucks\, climb the fire tower\, meet Smokey Bear and more! Pick up your treasure map at the Visitor Center.\n This event is for all ages and will be on Saturday\, August 10th from 11-2 at the southern unit of the park. Refreshments will be served.\n\n\n And remember folks\, only YOU can celebrate Smokey’s birthday!
URL:https://psalmfm.org/event/smokey-bears-80th-birthday-party-big-bog-state-recreation-area/
END:VEVENT
BEGIN:VEVENT
DTSTART;TZID=UTC:20240810T110000
DTEND;TZID=UTC:20240810T220000
DTSTAMP:20260425T020057
CREATED:20240726T151949Z
LAST-MODIFIED:20240726T151949Z
UID:9627-1723287600-1723327200@psalmfm.org
SUMMARY:Wood City Worship Festival
DESCRIPTION:The Wood City Worship Festival will be August 10th starting at 11am at Veterans Park\, located at 732 Ave B in Cloquet. For more information go to kbmcloquet.com \nThe Wood City Worship Festival is an annual event that brings people together for music\, faith\, and fun in the Cloquet area. Hosted by Kingdom Builders Ministries\, this free Christian music and worship festival features a variety of bands\, kids’ activities\, food\, and prayer. It’s a day to celebrate and praise the Lord!
URL:https://psalmfm.org/event/wood-city-worship-festival/
END:VEVENT
BEGIN:VEVENT
DTSTART;TZID=UTC:20240810T180000
DTEND;TZID=UTC:20240810T200000
DTSTAMP:20260425T020057
CREATED:20240604T153837Z
LAST-MODIFIED:20240805T144241Z
UID:9310-1723312800-1723320000@psalmfm.org
SUMMARY:Beach Volleyball-Ifalls City Beach
DESCRIPTION:There will be free co-ed beach volleyball every Saturday throughout the summer (weather permitting) from 6pm-8pm at the Ifalls City Beach in Ranier. For ages 15+. For more information\, call Julia at (218)434-0071.
URL:https://psalmfm.org/event/beach-volleyball-ifalls-city-beach/
END:VEVENT
END:VCALENDAR