BEGIN:VCALENDAR
VERSION:2.0
PRODID:-//PsalmFM - ECPv6.15.20//NONSGML v1.0//EN
CALSCALE:GREGORIAN
METHOD:PUBLISH
X-ORIGINAL-URL:https://psalmfm.org
X-WR-CALDESC:Events for PsalmFM
REFRESH-INTERVAL;VALUE=DURATION:PT1H
X-Robots-Tag:noindex
X-PUBLISHED-TTL:PT1H
BEGIN:VTIMEZONE
TZID:UTC
BEGIN:STANDARD
TZOFFSETFROM:+0000
TZOFFSETTO:+0000
TZNAME:UTC
DTSTART:20230101T000000
END:STANDARD
END:VTIMEZONE
BEGIN:VEVENT
DTSTART;TZID=UTC:20240811T113000
DTEND;TZID=UTC:20240811T143000
DTSTAMP:20260425T002953
CREATED:20240614T183631Z
LAST-MODIFIED:20240614T183631Z
UID:9400-1723375800-1723386600@psalmfm.org
SUMMARY:Sourdough Making Class-Birchdale
DESCRIPTION:Sourdough Making Class \nAugust 11th \n11:30-2:30 \nBirchdale Hall \n  \nClass includes: \n225+ year old French Sourdough Starter \nA loaf to bake the morning after class \nBeginner sourdough making guide \nTips\, tricks and suggested tools for success. \n  \nCost is $50 per person \nSign up by contacting Calli Erickson at 218-324-0237 or Taylor Tierney at 218-391-1636.
URL:https://psalmfm.org/event/sourdough-making-class-birchdale/
END:VEVENT
BEGIN:VEVENT
DTSTART;TZID=UTC:20240811T120000
DTEND;TZID=UTC:20240811T140000
DTSTAMP:20260425T002953
CREATED:20240807T151750Z
LAST-MODIFIED:20240807T151750Z
UID:9709-1723377600-1723384800@psalmfm.org
SUMMARY:Bethany Picnic
DESCRIPTION:Bethany Evangelical Lutheran Church will be having worship on August 11th starting at noon at Simon Point with a potluck picnic lunch to follow. If inclement weather it will be held at Bethany Lutheran.  * No worship at Littlefork Lutheran on August 11th*
URL:https://psalmfm.org/event/bethany-picnic/
END:VEVENT
BEGIN:VEVENT
DTSTART;TZID=UTC:20240811T180000
DTEND;TZID=UTC:20240811T200000
DTSTAMP:20260425T002953
CREATED:20240726T161739Z
LAST-MODIFIED:20240726T161739Z
UID:9629-1723399200-1723406400@psalmfm.org
SUMMARY:The Midnight Cry -Evangelical Covenant Church of Baudette
DESCRIPTION:Join the Evangelical Covenant Church of Baudette for The Midnight Cry on August 11th starting at 6pm. Internationally Acclaimed Author and Speaker\, Lee Brainard will be speaking.\nEschatology and Old Testament Prophets expert\, fluent in several languages\, guest on many national radio and television shows as well as podcasts. \n– Is the craziness in the world all a coincidence?\n– What if it was predicted thousands of years ago?\n– Is biblical prophecy about the end times happening in front of our eyes?\n– How do we interpret the signs?
URL:https://psalmfm.org/event/the-midnight-cry-evangelical-covenant-church-of-baudette/
END:VEVENT
END:VCALENDAR