BEGIN:VCALENDAR
VERSION:2.0
PRODID:-//PsalmFM - ECPv6.15.20//NONSGML v1.0//EN
CALSCALE:GREGORIAN
METHOD:PUBLISH
X-WR-CALNAME:PsalmFM
X-ORIGINAL-URL:https://psalmfm.org
X-WR-CALDESC:Events for PsalmFM
REFRESH-INTERVAL;VALUE=DURATION:PT1H
X-Robots-Tag:noindex
X-PUBLISHED-TTL:PT1H
BEGIN:VTIMEZONE
TZID:UTC
BEGIN:STANDARD
TZOFFSETFROM:+0000
TZOFFSETTO:+0000
TZNAME:UTC
DTSTART:20230101T000000
END:STANDARD
END:VTIMEZONE
BEGIN:VEVENT
DTSTART;TZID=UTC:20240925T073000
DTEND;TZID=UTC:20240925T200000
DTSTAMP:20260424T211942
CREATED:20240918T161931Z
LAST-MODIFIED:20240918T161931Z
UID:9924-1727249400-1727294400@psalmfm.org
SUMMARY:See You at the Pole
DESCRIPTION:See You at the Pole is a yearly Global Day of Student-led prayer. This year it is September 25th. \nAll are welcome to join in prayer at the Northome School flagpole at 7:30am.
URL:https://psalmfm.org/event/see-you-at-the-pole/
END:VEVENT
BEGIN:VEVENT
DTSTART;TZID=UTC:20240925T100000
DTEND;TZID=UTC:20240925T113000
DTSTAMP:20260424T211942
CREATED:20240918T153414Z
LAST-MODIFIED:20250320T174005Z
UID:9906-1727258400-1727263800@psalmfm.org
SUMMARY:Coffee Break Womens Bible Study- Emo Christian Reformed Church
DESCRIPTION:What is Coffee Break? \nIt is a weekly\, small group Bible study. To provide women of all ages a safe place to belong where they can establish meaningful relationships with other women and develop a growing relationship with Jesus Christ. Regular attendance is not required. \nWhere? \nEmo Christian Reformed Church- 18 Meadow\, Emo ON – 807-482-2155 \n\n\nWhen? \nCoffee Break is every Wednesday morning – mid September until mid May. \nTime? \nThere is a coffee (tea) fellowship time between 9:30-10:15\nGroup Bible study is 10:15 – 11:15 \nFree nursery for infants and toddlers\nLittle Lambs for children 3-5 \nAll women are welcome.
URL:https://psalmfm.org/event/coffee-break-womens-bible-study-emo-christian-reformed-church/
END:VEVENT
BEGIN:VEVENT
DTSTART;TZID=UTC:20240925T110000
DTEND;TZID=UTC:20240925T133000
DTSTAMP:20260424T211942
CREATED:20240918T161218Z
LAST-MODIFIED:20240918T161218Z
UID:9922-1727262000-1727271000@psalmfm.org
SUMMARY:Community Health & Wellness Fair- Ifalls
DESCRIPTION:Join Rainy Lake Medical Center + community partners for the 2024 Community Health & Wellness Fair on Wednesday\, Sept. 25 from 11-1:30 at the Rainy River Campus – Minnesota North.
URL:https://psalmfm.org/event/community-health-wellness-fair-ifalls/
END:VEVENT
END:VCALENDAR