BEGIN:VCALENDAR
VERSION:2.0
PRODID:-//PsalmFM - ECPv6.15.20//NONSGML v1.0//EN
CALSCALE:GREGORIAN
METHOD:PUBLISH
X-WR-CALNAME:PsalmFM
X-ORIGINAL-URL:https://psalmfm.org
X-WR-CALDESC:Events for PsalmFM
REFRESH-INTERVAL;VALUE=DURATION:PT1H
X-Robots-Tag:noindex
X-PUBLISHED-TTL:PT1H
BEGIN:VTIMEZONE
TZID:UTC
BEGIN:STANDARD
TZOFFSETFROM:+0000
TZOFFSETTO:+0000
TZNAME:UTC
DTSTART:20230101T000000
END:STANDARD
END:VTIMEZONE
BEGIN:VEVENT
DTSTART;TZID=UTC:20240926T110000
DTEND;TZID=UTC:20240926T150000
DTSTAMP:20260424T211942
CREATED:20240829T161812Z
LAST-MODIFIED:20240918T150907Z
UID:9809-1727348400-1727362800@psalmfm.org
SUMMARY:15th Annual Itasca County Community Connect
DESCRIPTION:15th Annual Itasca County Community Connect \nFree Meal! Free Info!  \nA gathering of service providers from the Itasca County area. \nServices like: Employment Assistance\, Housing Assistance\, Mental Health Information\, Veterans Services\, and much more! For your convenience\, all in one location\, all in one day! \n  \nThursday\, September 26\, 2024 11:00am-3:00pm \n  \nYanmar Arena \n1401 NW 3rd Ave\, Grand Rapids MN 55744 \n  \nFor more information\, contact First Call @ 211 or 218-326-8565
URL:https://psalmfm.org/event/15th-annual-itasca-county-community-connect/
END:VEVENT
BEGIN:VEVENT
DTSTART;TZID=UTC:20240926T120000
DTEND;TZID=UTC:20240926T140000
DTSTAMP:20260424T211942
CREATED:20240829T161048Z
LAST-MODIFIED:20240829T161048Z
UID:9805-1727352000-1727359200@psalmfm.org
SUMMARY:Psychological First Aid
DESCRIPTION:Psychological First Aid \n  \nThis FREE virtual training will teach you how to support healthy recovery in individuals following a traumatic event\, public health emergency\, natural disaster or personal crisis. The goal of PFA is to teach trainees how to reduce distress and negative health behaviors by providing practical help and promote resilience. \n  \nEveryone is welcome to attend this class! \n  \nCEU’s are available. \n  \nThursday\, September 26\, 2024 12:00pm-2:00pm \n  \n  \nInstructor: Kelly Campbell\, Grand Itasca Clinic & Hospital \n  \n  \nFor more information and questions\, please contact: Kathryn.taylor@fairview.org \n  \nThis training is presented by: M Health Fairview Community Advancement
URL:https://psalmfm.org/event/psychological-first-aid/
END:VEVENT
END:VCALENDAR