BEGIN:VCALENDAR
VERSION:2.0
PRODID:-//PsalmFM - ECPv6.15.20//NONSGML v1.0//EN
CALSCALE:GREGORIAN
METHOD:PUBLISH
X-ORIGINAL-URL:https://psalmfm.org
X-WR-CALDESC:Events for PsalmFM
REFRESH-INTERVAL;VALUE=DURATION:PT1H
X-Robots-Tag:noindex
X-PUBLISHED-TTL:PT1H
BEGIN:VTIMEZONE
TZID:UTC
BEGIN:STANDARD
TZOFFSETFROM:+0000
TZOFFSETTO:+0000
TZNAME:UTC
DTSTART:20230101T000000
END:STANDARD
END:VTIMEZONE
BEGIN:VEVENT
DTSTART;TZID=UTC:20241008T173000
DTEND;TZID=UTC:20241008T200000
DTSTAMP:20260424T200116
CREATED:20240919T144446Z
LAST-MODIFIED:20240919T144446Z
UID:9939-1728408600-1728417600@psalmfm.org
SUMMARY:Northwoods Pregnancy Center Annual Fall Banquet
DESCRIPTION:Northwoods Pregnancy Center\n2024 Annual Fall Banquet \nOctober 8th at the Sanford Center\nDoors open at 5:15 – Dinner and Program 6-8pm\nArranged seating\nTickets available at www.bemidjipregnancyoptions.com or 218-444-3035\ndeadline Sept. 25
URL:https://psalmfm.org/event/northwoods-pregnancy-center-annual-fall-banquet/
END:VEVENT
END:VCALENDAR