BEGIN:VCALENDAR
VERSION:2.0
PRODID:-//PsalmFM - ECPv6.15.20//NONSGML v1.0//EN
CALSCALE:GREGORIAN
METHOD:PUBLISH
X-ORIGINAL-URL:https://psalmfm.org
X-WR-CALDESC:Events for PsalmFM
REFRESH-INTERVAL;VALUE=DURATION:PT1H
X-Robots-Tag:noindex
X-PUBLISHED-TTL:PT1H
BEGIN:VTIMEZONE
TZID:UTC
BEGIN:STANDARD
TZOFFSETFROM:+0000
TZOFFSETTO:+0000
TZNAME:UTC
DTSTART:20230101T000000
END:STANDARD
END:VTIMEZONE
BEGIN:VEVENT
DTSTART;TZID=UTC:20241015T130000
DTEND;TZID=UTC:20241015T170000
DTSTAMP:20260424T200111
CREATED:20240829T154353Z
LAST-MODIFIED:20241007T151100Z
UID:9802-1728997200-1729011600@psalmfm.org
SUMMARY:AARP Defensive Driver Courses
DESCRIPTION:AARP Defensive Driver Course \nWhy Take the Defensive Driver Course? \nThe AARP Defensive Driver course is the nation’s first course specifically designed for drivers age 55 and older. Drivers will benefit from a 10% discount on their auto insurance premium upon completing the course. Drivers learn how to manage and accommodate common age-related changes in vision\, hearing and reaction time. \n  \nTuesday\, October 15\, 2024 \n1:00pm-5:00pm \nItasca County Family YMCA \n400 River Road \nGrand Rapids\, MN 55744 \n To Register for this class\, please call 218-327-5730 \n  \nCost for the class is $20 for AARP members and $25 for nonmembers. Please arrive 15 minutes early for registration paperwork. \n  \nContact Peggy Brennan at 651-895-6465 with any questions. \nIf interested in becoming a Smart Driver instructor\, please call Marn Flicker\, 763-291-4411.
URL:https://psalmfm.org/event/9802/
END:VEVENT
END:VCALENDAR