BEGIN:VCALENDAR
VERSION:2.0
PRODID:-//PsalmFM - ECPv6.15.20//NONSGML v1.0//EN
CALSCALE:GREGORIAN
METHOD:PUBLISH
X-WR-CALNAME:PsalmFM
X-ORIGINAL-URL:https://psalmfm.org
X-WR-CALDESC:Events for PsalmFM
REFRESH-INTERVAL;VALUE=DURATION:PT1H
X-Robots-Tag:noindex
X-PUBLISHED-TTL:PT1H
BEGIN:VTIMEZONE
TZID:UTC
BEGIN:STANDARD
TZOFFSETFROM:+0000
TZOFFSETTO:+0000
TZNAME:UTC
DTSTART:20230101T000000
END:STANDARD
END:VTIMEZONE
BEGIN:VEVENT
DTSTART;TZID=UTC:20241022T163000
DTEND;TZID=UTC:20241022T183000
DTSTAMP:20260424T200009
CREATED:20241014T190447Z
LAST-MODIFIED:20241014T190447Z
UID:10061-1729614600-1729621800@psalmfm.org
SUMMARY:Kootasca's Energy Awareness Expo
DESCRIPTION:October is Energy Awareness Month and KOOTASCA invites you to celebrate with them on Tuesday\, October 22nd from 4:30 – 6:30 pm at Backus Community Center in Int’l Falls!\nLearn about MN Power’s discount programs\, receive an Energy Savings Kit\, sign up for Energy Assistance\, connect with area service providers\, and enjoy a free meal! We ask that you please RSVP to Amy by calling (218) 283-9491 or emailing amym@kootasca.org so we can plan for meals and materials.
URL:https://psalmfm.org/event/kootascas-energy-awareness-expo/
END:VEVENT
BEGIN:VEVENT
DTSTART;TZID=UTC:20241022T170000
DTEND;TZID=UTC:20241022T190000
DTSTAMP:20260424T200009
CREATED:20241014T190935Z
LAST-MODIFIED:20241014T190935Z
UID:10063-1729616400-1729623600@psalmfm.org
SUMMARY:Open House- Rainy River-Rainy Lake Comprehensive Watershed Management Plan
DESCRIPTION:The Rainy River-Rainy Lake Watershed Planning Partnership invites public comments from October 1st to November 29th on the proposed Rainy River-Rainy Lake Comprehensive Watershed Management Plan.\n\nThere will be an Open House on Tuesday\, October 22nd from 5-7pm at the Elks Lodge\, located at 215 3rd Street in Int’l Falls. • Stop in and pick up a brochure outlining the key goals and objectives of the draft plan\n• Chat with planning partners and view plan displays\n• Learn how to access the draft plan and submit your comments•You can view the draft plan now at https://koochichingswcd.org/rrrl_1w1p/\n\nQuestions? Contact Pam Tomevi at 218-283-1174 or pam.tomevi@co.koochiching.mn.us
URL:https://psalmfm.org/event/open-house-rainy-river-rainy-lake-comprehensive-watershed-management-plan/
END:VEVENT
END:VCALENDAR