BEGIN:VCALENDAR
VERSION:2.0
PRODID:-//PsalmFM - ECPv6.15.20//NONSGML v1.0//EN
CALSCALE:GREGORIAN
METHOD:PUBLISH
X-ORIGINAL-URL:https://psalmfm.org
X-WR-CALDESC:Events for PsalmFM
REFRESH-INTERVAL;VALUE=DURATION:PT1H
X-Robots-Tag:noindex
X-PUBLISHED-TTL:PT1H
BEGIN:VTIMEZONE
TZID:UTC
BEGIN:STANDARD
TZOFFSETFROM:+0000
TZOFFSETTO:+0000
TZNAME:UTC
DTSTART:20230101T000000
END:STANDARD
END:VTIMEZONE
BEGIN:VEVENT
DTSTART;TZID=UTC:20241023T090000
DTEND;TZID=UTC:20241024T180000
DTSTAMP:20260424T200113
CREATED:20241007T154010Z
LAST-MODIFIED:20241007T172314Z
UID:9995-1729674000-1729792800@psalmfm.org
SUMMARY:Open Door Coat Rack
DESCRIPTION:Providing gently-used winter wear for children and adults at no cost. \nDistribution: Wednesday & Thursday\, October 23 & 24 9:00am-6:00pm \n  \nUnited Methodist Church 1701 SE 5th Avenue\, Grand Rapids \nTwo blocks west of Grand Rapids Airport \n  \nDonations • Clean\, gently-used outerwear on hangers only (no bags or boxes). Accepted • Cash donations accepted to purchase items not donated. • Long coats\, wool coats and jackets with advertising are not accepted. • There is typically a shortage of children’s snow pants\, boots\, waterproof mittens/gloves and adult extra large sizes coats/jackets. \n  \nQuestions? OpenDoorCoatRack@umcgrmn.org Donations: Kay at 612-845-6649 Volunteering: Judy at 218-398-0849
URL:https://psalmfm.org/event/open-door-coat-rack/
END:VEVENT
END:VCALENDAR