BEGIN:VCALENDAR
VERSION:2.0
PRODID:-//PsalmFM - ECPv6.15.20//NONSGML v1.0//EN
CALSCALE:GREGORIAN
METHOD:PUBLISH
X-WR-CALNAME:PsalmFM
X-ORIGINAL-URL:https://psalmfm.org
X-WR-CALDESC:Events for PsalmFM
REFRESH-INTERVAL;VALUE=DURATION:PT1H
X-Robots-Tag:noindex
X-PUBLISHED-TTL:PT1H
BEGIN:VTIMEZONE
TZID:UTC
BEGIN:STANDARD
TZOFFSETFROM:+0000
TZOFFSETTO:+0000
TZNAME:UTC
DTSTART:20230101T000000
END:STANDARD
END:VTIMEZONE
BEGIN:VEVENT
DTSTART;TZID=UTC:20241028T183000
DTEND;TZID=UTC:20241028T210000
DTSTAMP:20260424T183737
CREATED:20241017T192732Z
LAST-MODIFIED:20241017T192732Z
UID:10114-1730140200-1730149200@psalmfm.org
SUMMARY:Comedian Mickey Bell
DESCRIPTION:National Comedian Mickey Bell and Presence Music Band will be at Legacy Church Quad Cities on Monday\, Oct. 28. This event is free and open to all.  \nCome hear this pastor-turned-comedian from Alabama who also knows the pain of depression and failure. Find out how he overcame and found hope. Invite a friend! A light dinner will be served at 5:30.
URL:https://psalmfm.org/event/comedian-mickey-bell/
LOCATION:Legacy Church\, 5467 Mountain Iron Dr\, Virginia\, MN\, 55792-3302
END:VEVENT
END:VCALENDAR