BEGIN:VCALENDAR
VERSION:2.0
PRODID:-//PsalmFM - ECPv6.15.20//NONSGML v1.0//EN
CALSCALE:GREGORIAN
METHOD:PUBLISH
X-ORIGINAL-URL:https://psalmfm.org
X-WR-CALDESC:Events for PsalmFM
REFRESH-INTERVAL;VALUE=DURATION:PT1H
X-Robots-Tag:noindex
X-PUBLISHED-TTL:PT1H
BEGIN:VTIMEZONE
TZID:UTC
BEGIN:STANDARD
TZOFFSETFROM:+0000
TZOFFSETTO:+0000
TZNAME:UTC
DTSTART:20230101T000000
END:STANDARD
END:VTIMEZONE
BEGIN:VEVENT
DTSTART;TZID=UTC:20241030T180000
DTEND;TZID=UTC:20241030T190000
DTSTAMP:20260424T184110
CREATED:20241029T164104Z
LAST-MODIFIED:20241029T164104Z
UID:10179-1730311200-1730314800@psalmfm.org
SUMMARY:Berean Baptist Church Fall Festival
DESCRIPTION:There will be a Fall Festival at the Berean Baptist Church in Ifalls on October 30th from 6-7pm. Candy\, games and popcorn.
URL:https://psalmfm.org/event/berean-baptist-church-fall-festival/
END:VEVENT
BEGIN:VEVENT
DTSTART;TZID=UTC:20241030T180000
DTEND;TZID=UTC:20241030T200000
DTSTAMP:20260424T184110
CREATED:20241014T185315Z
LAST-MODIFIED:20241029T155059Z
UID:10057-1730311200-1730318400@psalmfm.org
SUMMARY:Tenstrike Community Church Amplify Youth Group
DESCRIPTION:Tenstrike Community Church’s Youth Group- Amplify\, meets Wednesdays at 6PM.
URL:https://psalmfm.org/event/tenstrike-community-church-amplify-youth-group/
END:VEVENT
END:VCALENDAR