BEGIN:VCALENDAR
VERSION:2.0
PRODID:-//PsalmFM - ECPv6.15.20//NONSGML v1.0//EN
CALSCALE:GREGORIAN
METHOD:PUBLISH
X-ORIGINAL-URL:https://psalmfm.org
X-WR-CALDESC:Events for PsalmFM
REFRESH-INTERVAL;VALUE=DURATION:PT1H
X-Robots-Tag:noindex
X-PUBLISHED-TTL:PT1H
BEGIN:VTIMEZONE
TZID:UTC
BEGIN:STANDARD
TZOFFSETFROM:+0000
TZOFFSETTO:+0000
TZNAME:UTC
DTSTART:20230101T000000
END:STANDARD
END:VTIMEZONE
BEGIN:VEVENT
DTSTART;TZID=UTC:20241031T053000
DTEND;TZID=UTC:20241031T183000
DTSTAMP:20260424T184110
CREATED:20241029T161814Z
LAST-MODIFIED:20241029T161814Z
UID:10177-1730352600-1730399400@psalmfm.org
SUMMARY:ECC Trunk or Treat- IFalls
DESCRIPTION:All young families are invited to participate in a Trunk or Treat on Thursday\, October 31st from 5:30-6:30 at the Ifalls Covenant Church.
URL:https://psalmfm.org/event/ecc-trunk-or-treat-ifalls/
END:VEVENT
BEGIN:VEVENT
DTSTART;TZID=UTC:20241031T173000
DTEND;TZID=UTC:20241031T183000
DTSTAMP:20260424T184110
CREATED:20241025T144258Z
LAST-MODIFIED:20241025T144258Z
UID:10165-1730395800-1730399400@psalmfm.org
SUMMARY:IFalls Trunk or Treat
DESCRIPTION:All young families are invited to Trunk or Treat at Ifalls Covenant Church!
URL:https://psalmfm.org/event/ifalls-trunk-or-treat/
LOCATION:IFalls Evangelical Covenant Church\, 1631 1st Ave. East\, International Falls\, Mn
END:VEVENT
BEGIN:VEVENT
DTSTART;TZID=UTC:20241031T180000
DTEND;TZID=UTC:20241031T200000
DTSTAMP:20260424T184110
CREATED:20241029T161619Z
LAST-MODIFIED:20241029T161619Z
UID:10175-1730397600-1730404800@psalmfm.org
SUMMARY:Fall Fest at Grand Rapids Assembly of God
DESCRIPTION:Free family fun event with inflatables\, face painting\, lots of candy\, sno-cones\, cotton candy\, hot dogs\, games and hayrides on October 31st from 6-8.
URL:https://psalmfm.org/event/fall-fest-at-grand-rapids-assembly-of-god/
END:VEVENT
BEGIN:VEVENT
DTSTART;TZID=UTC:20241031T183000
DTEND;TZID=UTC:20241031T193000
DTSTAMP:20260424T184110
CREATED:20240320T165842Z
LAST-MODIFIED:20241029T155636Z
UID:8868-1730399400-1730403000@psalmfm.org
SUMMARY:Community Diabetes Support Group- Grand Rapids
DESCRIPTION:Meet other members of the community who have Type 1 and Type 2 Diabetes as well as their friends and family\, and share successes and experiences regarding diabetes care.\nSupport group is led by a member of the Grand Itasca Diabetes Team and meets the 4th Thursday of every month from January-October from 6:30-7:30pm in the Active Living Center Classroom at the YMCA.
URL:https://psalmfm.org/event/community-diabetes-support-group-grand-rapids/
END:VEVENT
END:VCALENDAR