BEGIN:VCALENDAR
VERSION:2.0
PRODID:-//PsalmFM - ECPv6.15.20//NONSGML v1.0//EN
CALSCALE:GREGORIAN
METHOD:PUBLISH
X-WR-CALNAME:PsalmFM
X-ORIGINAL-URL:https://psalmfm.org
X-WR-CALDESC:Events for PsalmFM
REFRESH-INTERVAL;VALUE=DURATION:PT1H
X-Robots-Tag:noindex
X-PUBLISHED-TTL:PT1H
BEGIN:VTIMEZONE
TZID:UTC
BEGIN:STANDARD
TZOFFSETFROM:+0000
TZOFFSETTO:+0000
TZNAME:UTC
DTSTART:20230101T000000
END:STANDARD
END:VTIMEZONE
BEGIN:VEVENT
DTSTART;TZID=UTC:20241109T160000
DTEND;TZID=UTC:20241109T200000
DTSTAMP:20260424T183854
CREATED:20241029T164737Z
LAST-MODIFIED:20241029T164737Z
UID:10181-1731168000-1731182400@psalmfm.org
SUMMARY:Birchdale Church Fall Supper
DESCRIPTION:Birchdale Church- Fall Supper\nDine-in or grab-and-go\nRoast Beef or Pork\, PotatoesHome-grown Vegetables and Pie!Bake SaleSaturday\, November 9thserving from 4-8 pmat the Birchdale Community Building\nFree -Will OfferingHunters\, come as you are.
URL:https://psalmfm.org/event/birchdale-church-fall-supper/
END:VEVENT
BEGIN:VEVENT
DTSTART;TZID=UTC:20241109T160000
DTEND;TZID=UTC:20241109T200000
DTSTAMP:20260424T183854
CREATED:20241029T165319Z
LAST-MODIFIED:20241029T165319Z
UID:10183-1731168000-1731182400@psalmfm.org
SUMMARY:Kabetogama Hunters Supper
DESCRIPTION:A Hunters Supper will be on November 9th at the Kabetogama “Town” Hall from 4-8. \nPick-up or dine-in \n$20 Adults/$10 children (8 and under) \nTurkey\, beef\, mashed potatoes\, gravy\, veggies\, stuffing\, coleslaw\, dinner roll\, cookie\, water and coffee
URL:https://psalmfm.org/event/kabetogama-hunters-supper/
END:VEVENT
BEGIN:VEVENT
DTSTART;TZID=UTC:20241109T183000
DTEND;TZID=UTC:20241109T200000
DTSTAMP:20260424T183854
CREATED:20241029T165957Z
LAST-MODIFIED:20241029T165957Z
UID:10185-1731177000-1731182400@psalmfm.org
SUMMARY:Deer Hunters Potluck Supper- Big Falls
DESCRIPTION:Saturday\, November 9th starting at 6:30pm upstairs at the Big Falls Community Building.
URL:https://psalmfm.org/event/deer-hunters-potluck-supper-big-falls/
END:VEVENT
END:VCALENDAR