BEGIN:VCALENDAR
VERSION:2.0
PRODID:-//PsalmFM - ECPv6.15.20//NONSGML v1.0//EN
CALSCALE:GREGORIAN
METHOD:PUBLISH
X-WR-CALNAME:PsalmFM
X-ORIGINAL-URL:https://psalmfm.org
X-WR-CALDESC:Events for PsalmFM
REFRESH-INTERVAL;VALUE=DURATION:PT1H
X-Robots-Tag:noindex
X-PUBLISHED-TTL:PT1H
BEGIN:VTIMEZONE
TZID:UTC
BEGIN:STANDARD
TZOFFSETFROM:+0000
TZOFFSETTO:+0000
TZNAME:UTC
DTSTART:20230101T000000
END:STANDARD
END:VTIMEZONE
BEGIN:VEVENT
DTSTART;TZID=UTC:20241202T080000
DTEND;TZID=UTC:20241202T170000
DTSTAMP:20260424T170603
CREATED:20241125T162934Z
LAST-MODIFIED:20241125T162934Z
UID:10313-1733126400-1733158800@psalmfm.org
SUMMARY:Arrowhead Library Systems Felt Mitten and Heart Pockets Take and Create Kits
DESCRIPTION:The Arrowhead Library System (ALS) will be providing Felt Mitten and Heart Pockets Take & Create Kits during the month of December.  This art experience\, created by MN Artist Mary Mulari\, includes instructions and supplies for creating 6 felt pockets to trim a tree\, make a garland\, or use as colorful holders for treats\, gift cards\, or special notes. The pockets can be sewn by hand or machine. \nTake & Create Art Kits will include simple instructions and all needed materials\, including felt\, assorted ribbons and buttons\, an alphabet to trace for monograms\, and ideas for personalizing each pocket. The link to a YouTube video showing the steps of making the pockets will also be provided. Kits will be distributed at the following public libraries and ALS outreach locations: \nAurora Public Library \nBabbitt Public Library \nBaudette Public Library \nBovey Public Library \nBuhl Public Library \nCalumet Public Library \nChisholm Public Library \nCloquet Public Library \nColeraine Public Library \nCook Public Library \nEly Public Library \nEveleth Public Library \nGilbert Public Library \nGrand Rapids Area Library \nHibbing Public Library \nInternational Falls Public Library \nKeewatin Public Library \nMarble Public Library \nMountain Iron Public Library \nVirginia Public Library \nArrowhead Library System Bookmobile \nArrowhead Library System Mail-A-Book (*patrons must qualify for Mail-A-Book services\, kit may be modified in order to deliver by mail) \n  \nThis free program is best suited for all ages\, but younger children may need help. Please note each location has a limited number of kits – feel free to contact your local library for more information. \nThis program\, sponsored by Arrowhead Library System\, was funded in part or in whole with money from Minnesota’s Arts and Cultural Heritage Fund. To learn more about Arrowhead Legacy Events\, please see their calendar at www.alslib.info or like them on Facebook at www.facebook.com/alslibinfo.
URL:https://psalmfm.org/event/arrowhead-library-systems-felt-mitten-and-heart-pockets-take-and-create-kits/
END:VEVENT
BEGIN:VEVENT
DTSTART;TZID=UTC:20241202T080000
DTEND;TZID=UTC:20241218T170000
DTSTAMP:20260424T170603
CREATED:20241127T182941Z
LAST-MODIFIED:20241203T161737Z
UID:10337-1733126400-1734541200@psalmfm.org
SUMMARY:Good Sam's Adopt a Resident
DESCRIPTION:Be a blessing-adopt a resident! Come in\, select a tag\, and share the joy of the season! \nAngel pick up starts 11/27 at the Good Samaritan Society\, located at 2201 Keenan Drive in Int’l Falls. \nPlease return gifts by 12/18 and ensure tags are attached when dropping off.
URL:https://psalmfm.org/event/good-sams-adopt-a-resident/
END:VEVENT
BEGIN:VEVENT
DTSTART;TZID=UTC:20241202T190000
DTEND;TZID=UTC:20241202T203000
DTSTAMP:20260424T170603
CREATED:20241014T193454Z
LAST-MODIFIED:20241014T193454Z
UID:10068-1733166000-1733171400@psalmfm.org
SUMMARY:Rainy Lake Community Orchestra Holiday Concert at Backus Community Center
DESCRIPTION:Rainy Lake Community Orchestra Presents a Holiday Concert on Monday\, December 2nd on the Backus Stage starting at 7pm.
URL:https://psalmfm.org/event/rainy-lake-community-orchestra-holiday-concert-at-backus-community-center/
END:VEVENT
END:VCALENDAR