BEGIN:VCALENDAR
VERSION:2.0
PRODID:-//PsalmFM - ECPv6.15.20//NONSGML v1.0//EN
CALSCALE:GREGORIAN
METHOD:PUBLISH
X-ORIGINAL-URL:https://psalmfm.org
X-WR-CALDESC:Events for PsalmFM
REFRESH-INTERVAL;VALUE=DURATION:PT1H
X-Robots-Tag:noindex
X-PUBLISHED-TTL:PT1H
BEGIN:VTIMEZONE
TZID:UTC
BEGIN:STANDARD
TZOFFSETFROM:+0000
TZOFFSETTO:+0000
TZNAME:UTC
DTSTART:20230101T000000
END:STANDARD
END:VTIMEZONE
BEGIN:VEVENT
DTSTART;TZID=UTC:20241202T080000
DTEND;TZID=UTC:20241218T170000
DTSTAMP:20260424T170729
CREATED:20241127T182941Z
LAST-MODIFIED:20241203T161737Z
UID:10337-1733126400-1734541200@psalmfm.org
SUMMARY:Good Sam's Adopt a Resident
DESCRIPTION:Be a blessing-adopt a resident! Come in\, select a tag\, and share the joy of the season! \nAngel pick up starts 11/27 at the Good Samaritan Society\, located at 2201 Keenan Drive in Int’l Falls. \nPlease return gifts by 12/18 and ensure tags are attached when dropping off.
URL:https://psalmfm.org/event/good-sams-adopt-a-resident/
END:VEVENT
BEGIN:VEVENT
DTSTART;TZID=UTC:20241203T150000
DTEND;TZID=UTC:20241203T190000
DTSTAMP:20260424T170729
CREATED:20241118T170948Z
LAST-MODIFIED:20241118T171042Z
UID:10261-1733238000-1733252400@psalmfm.org
SUMMARY:Annual Lutefisk & Meatball Dinner- Virginia
DESCRIPTION:Come and celebrate with Gethsemane Evangelical Lutheran Church at their\nANNUAL LUTEFISK AND MEATBALL DINNER \nLutefisk with drawn butter and cream sauce\, handmade swedish meatballs\, gravy and potatoes\, lefse and bread\, vegetable\, beet pickles\ncoffee\, milk\, and cupcake \nTuesday\, December 3\, 2024\n3:00 p.m. – 7:00 p.m. \nGethsemane Evangelical Lutheran Church\n901 South Fourth Street\nVirginia\, Minnesota\n218-741-4961 \nAdults: $ 20.00\nChildren 6-12: $ 8.00\nChildren 5 and under – Free
URL:https://psalmfm.org/event/10261/
END:VEVENT
BEGIN:VEVENT
DTSTART;TZID=UTC:20241203T190000
DTEND;TZID=UTC:20241203T203000
DTSTAMP:20260424T170729
CREATED:20241014T193758Z
LAST-MODIFIED:20241014T193758Z
UID:10070-1733252400-1733257800@psalmfm.org
SUMMARY:Community Band and Choir Holiday Concert at Backus Community Center
DESCRIPTION:Backus Music will be having a Holiday Concert on Tuesday\, December 3rd starting at 7pm in the John Faith Little Theater at the Backus Community Center featuring the Community Band and Community Choir.
URL:https://psalmfm.org/event/community-band-and-choir-holiday-concert-at-backus-community-center/
END:VEVENT
END:VCALENDAR