BEGIN:VCALENDAR
VERSION:2.0
PRODID:-//PsalmFM - ECPv6.15.20//NONSGML v1.0//EN
CALSCALE:GREGORIAN
METHOD:PUBLISH
X-ORIGINAL-URL:https://psalmfm.org
X-WR-CALDESC:Events for PsalmFM
REFRESH-INTERVAL;VALUE=DURATION:PT1H
X-Robots-Tag:noindex
X-PUBLISHED-TTL:PT1H
BEGIN:VTIMEZONE
TZID:UTC
BEGIN:STANDARD
TZOFFSETFROM:+0000
TZOFFSETTO:+0000
TZNAME:UTC
DTSTART:20230101T000000
END:STANDARD
END:VTIMEZONE
BEGIN:VEVENT
DTSTART;TZID=UTC:20241202T080000
DTEND;TZID=UTC:20241218T170000
DTSTAMP:20260424T170639
CREATED:20241127T182941Z
LAST-MODIFIED:20241203T161737Z
UID:10337-1733126400-1734541200@psalmfm.org
SUMMARY:Good Sam's Adopt a Resident
DESCRIPTION:Be a blessing-adopt a resident! Come in\, select a tag\, and share the joy of the season! \nAngel pick up starts 11/27 at the Good Samaritan Society\, located at 2201 Keenan Drive in Int’l Falls. \nPlease return gifts by 12/18 and ensure tags are attached when dropping off.
URL:https://psalmfm.org/event/good-sams-adopt-a-resident/
END:VEVENT
BEGIN:VEVENT
DTSTART;TZID=UTC:20241207T080000
DTEND;TZID=UTC:20241207T150000
DTSTAMP:20260424T170639
CREATED:20241203T163845Z
LAST-MODIFIED:20241203T163845Z
UID:10353-1733558400-1733583600@psalmfm.org
SUMMARY:Birchdale Cookie Walk and Christmas Bazaar
DESCRIPTION:The Birchdale Cookie Walk and Christmas Bazaar will be at the Birchdale Community Hall on Saturday\, December 7th from 8-2. Breakfast and lunch will be offered for a freewill donation. Many vendors of wreaths and crafts. Get your Christmas cookies here!
URL:https://psalmfm.org/event/birchdale-cookie-walk-and-christmas-bazaar/
END:VEVENT
BEGIN:VEVENT
DTSTART;TZID=UTC:20241207T083000
DTEND;TZID=UTC:20241207T120000
DTSTAMP:20260424T170639
CREATED:20241204T173802Z
LAST-MODIFIED:20241204T173802Z
UID:10371-1733560200-1733572800@psalmfm.org
SUMMARY:Bloodmobile-Embarrass
DESCRIPTION:Saturday\, December 07\, 2024 \n08:30 am – 12:00 pm \nERFA Timber Hall \n4855 Highway 21\nTimber Hall\nEmbarrass\, MN 55732 \nPrimary Blood Drive Coordinator: \nBonnie Overton\nEmail: bonnie_overton@yahoo.com
URL:https://psalmfm.org/event/bloodmobile-embarrass-2/
END:VEVENT
BEGIN:VEVENT
DTSTART;TZID=UTC:20241207T090000
DTEND;TZID=UTC:20241207T170000
DTSTAMP:20260424T170639
CREATED:20241125T174758Z
LAST-MODIFIED:20241125T174758Z
UID:10330-1733562000-1733590800@psalmfm.org
SUMMARY:Bovey's Small Town Vintage Christmas
DESCRIPTION:Come and enjoy Bovey’s old-fashioned celebration on Saturday\, December 7th.\nAll events are free! All events are 12PM-4PM accept the Craft/Vendor Fair is 9AM-5PM\nHorse Drawn Hay Rides!\nPictures with Santa\nCraft / Vendor Fair 9-5\nBonfire/ Hot Chocolate/Smore’s\nCookie Decorating\nCrafting for Kids \nAll activities are at City Hall.\nPlease contact Nancilyn Meyer 218-259-6028 or call the Bovey City Hall at 218-245-1633 if you have any questions
URL:https://psalmfm.org/event/boveys-small-town-vintage-christmas/
END:VEVENT
BEGIN:VEVENT
DTSTART;TZID=UTC:20241207T180000
DTEND;TZID=UTC:20241207T200000
DTSTAMP:20260424T170639
CREATED:20241119T182051Z
LAST-MODIFIED:20241119T182051Z
UID:10289-1733594400-1733601600@psalmfm.org
SUMMARY:Saphire & Presence Music Concert
DESCRIPTION:A Free Concert featuring Nashville Artist Saphire and Presence Music will be Saturday\, December 7th from 6-8 at the Triumphant Life Church\, located at 1307 Autumn Lake in Bovey.
URL:https://psalmfm.org/event/saphire-presence-music-concert/
END:VEVENT
END:VCALENDAR