BEGIN:VCALENDAR
VERSION:2.0
PRODID:-//PsalmFM - ECPv6.15.20//NONSGML v1.0//EN
CALSCALE:GREGORIAN
METHOD:PUBLISH
X-ORIGINAL-URL:https://psalmfm.org
X-WR-CALDESC:Events for PsalmFM
REFRESH-INTERVAL;VALUE=DURATION:PT1H
X-Robots-Tag:noindex
X-PUBLISHED-TTL:PT1H
BEGIN:VTIMEZONE
TZID:UTC
BEGIN:STANDARD
TZOFFSETFROM:+0000
TZOFFSETTO:+0000
TZNAME:UTC
DTSTART:20230101T000000
END:STANDARD
END:VTIMEZONE
BEGIN:VEVENT
DTSTART;TZID=UTC:20241202T080000
DTEND;TZID=UTC:20241218T170000
DTSTAMP:20260424T170633
CREATED:20241127T182941Z
LAST-MODIFIED:20241203T161737Z
UID:10337-1733126400-1734541200@psalmfm.org
SUMMARY:Good Sam's Adopt a Resident
DESCRIPTION:Be a blessing-adopt a resident! Come in\, select a tag\, and share the joy of the season! \nAngel pick up starts 11/27 at the Good Samaritan Society\, located at 2201 Keenan Drive in Int’l Falls. \nPlease return gifts by 12/18 and ensure tags are attached when dropping off.
URL:https://psalmfm.org/event/good-sams-adopt-a-resident/
END:VEVENT
BEGIN:VEVENT
DTSTART;TZID=UTC:20241209T080000
DTEND;TZID=UTC:20241213T170000
DTSTAMP:20260424T170633
CREATED:20241111T194636Z
LAST-MODIFIED:20241209T161117Z
UID:10237-1733731200-1734109200@psalmfm.org
SUMMARY:United for Veterans Holiday Meal Kits
DESCRIPTION:United for Veterans will be providing Holiday Meal Kits again this year to veterans in need throughout Koochiching County. Delivery date TBD\, but sometime mid-December. If you would like to sign up\, or know a veteran who could benefit\, please call 218-283-1179.
URL:https://psalmfm.org/event/united-for-veterans-holiday-meal-kits/
END:VEVENT
BEGIN:VEVENT
DTSTART;TZID=UTC:20241210T090000
DTEND;TZID=UTC:20241210T130000
DTSTAMP:20260424T170633
CREATED:20241204T173836Z
LAST-MODIFIED:20241204T173836Z
UID:10373-1733821200-1733835600@psalmfm.org
SUMMARY:Bloodmobile- Virginia
DESCRIPTION:Tuesday\, December 10\, 2024 \n09:00 am – 01:00 pm \nRock Ridge High School \n1403 Progress Pkwy\nParking Lot\nVirginia\, MN 55792 \nPrimary Blood Drive Coordinator: \nJill Clennon\nEmail: jclennon@vmps.org\nPhone: 218-248-5014
URL:https://psalmfm.org/event/bloodmobile-virginia-2/
END:VEVENT
BEGIN:VEVENT
DTSTART;TZID=UTC:20241210T090000
DTEND;TZID=UTC:20241210T153000
DTSTAMP:20260424T170633
CREATED:20241204T174017Z
LAST-MODIFIED:20241204T174017Z
UID:10379-1733821200-1733844600@psalmfm.org
SUMMARY:Bloodmobile- Cook
DESCRIPTION:Tuesday\, December 10\, 2024 \n09:00 am – 03:30 pm \nNorthwoods School \n10248 Olson Road East\nCook\, MN 55723 \nPrimary Blood Drive Coordinator: \nJill Stark\nEmail: jstark@isd2142.k12.mn.us\nPhone: 218-666-5221 5306
URL:https://psalmfm.org/event/bloodmobile-cook-3/
END:VEVENT
END:VCALENDAR