BEGIN:VCALENDAR
VERSION:2.0
PRODID:-//PsalmFM - ECPv6.15.20//NONSGML v1.0//EN
CALSCALE:GREGORIAN
METHOD:PUBLISH
X-WR-CALNAME:PsalmFM
X-ORIGINAL-URL:https://psalmfm.org
X-WR-CALDESC:Events for PsalmFM
REFRESH-INTERVAL;VALUE=DURATION:PT1H
X-Robots-Tag:noindex
X-PUBLISHED-TTL:PT1H
BEGIN:VTIMEZONE
TZID:UTC
BEGIN:STANDARD
TZOFFSETFROM:+0000
TZOFFSETTO:+0000
TZNAME:UTC
DTSTART:20230101T000000
END:STANDARD
END:VTIMEZONE
BEGIN:VEVENT
DTSTART;TZID=UTC:20241202T080000
DTEND;TZID=UTC:20241218T170000
DTSTAMP:20260424T170608
CREATED:20241127T182941Z
LAST-MODIFIED:20241203T161737Z
UID:10337-1733126400-1734541200@psalmfm.org
SUMMARY:Good Sam's Adopt a Resident
DESCRIPTION:Be a blessing-adopt a resident! Come in\, select a tag\, and share the joy of the season! \nAngel pick up starts 11/27 at the Good Samaritan Society\, located at 2201 Keenan Drive in Int’l Falls. \nPlease return gifts by 12/18 and ensure tags are attached when dropping off.
URL:https://psalmfm.org/event/good-sams-adopt-a-resident/
END:VEVENT
BEGIN:VEVENT
DTSTART;TZID=UTC:20241216T080000
DTEND;TZID=UTC:20241222T170000
DTSTAMP:20260424T170608
CREATED:20241104T194722Z
LAST-MODIFIED:20241216T160518Z
UID:10206-1734336000-1734886800@psalmfm.org
SUMMARY:AARP Tax-Aide Volunteers Needed
DESCRIPTION:This program is a free service offered by the AARP Foundation to help seniors and those of modest incomes prepare their taxes. This local program is in jeopardy due to lack of volunteers. \nVolunteers don’t have to belong to AARP to participate. Just a desire to make a meaningful difference in the community. \nIf you are curious and would like to find out more\, call Jim at 218-245-9202 or send them an email at taxaidegr@gmail.com.
URL:https://psalmfm.org/event/aarp-tax-aide-volunteers-needed/
END:VEVENT
BEGIN:VEVENT
DTSTART;TZID=UTC:20241218T080000
DTEND;TZID=UTC:20241218T170000
DTSTAMP:20260424T170608
CREATED:20241204T192437Z
LAST-MODIFIED:20241204T192437Z
UID:10391-1734508800-1734541200@psalmfm.org
SUMMARY:Koochiching County Curbside Recycling Schedule
DESCRIPTION:Koochiching County Environmental Services would like you to know that due to the Christmas Holiday there will be a change to the Curbside Recycling Schedule in the Int’l Falls area. \n Curbside recycling that is normally collected on the last Wednesday of the month will be picked up Wednesday\, December 18th. Please have your bins out by 8:00 AM.  If you have any questions\, please call Environmental Services at 218-283-1157.
URL:https://psalmfm.org/event/koochiching-county-curbside-recycling-schedule/
END:VEVENT
BEGIN:VEVENT
DTSTART;TZID=UTC:20241218T190000
DTEND;TZID=UTC:20241218T203000
DTSTAMP:20260424T170608
CREATED:20241127T182525Z
LAST-MODIFIED:20241205T194704Z
UID:10335-1734548400-1734553800@psalmfm.org
SUMMARY:Lake Road Chapel Christmas Program
DESCRIPTION:Lake Road Chapel in Baudette is having their Christmas Program on Wednesday\, December 18th at 7pm. Everyone is welcome\, meal to follow.
URL:https://psalmfm.org/event/lake-road-chapel-christmas-program/
END:VEVENT
END:VCALENDAR