BEGIN:VCALENDAR
VERSION:2.0
PRODID:-//PsalmFM - ECPv6.15.20//NONSGML v1.0//EN
CALSCALE:GREGORIAN
METHOD:PUBLISH
X-WR-CALNAME:PsalmFM
X-ORIGINAL-URL:https://psalmfm.org
X-WR-CALDESC:Events for PsalmFM
REFRESH-INTERVAL;VALUE=DURATION:PT1H
X-Robots-Tag:noindex
X-PUBLISHED-TTL:PT1H
BEGIN:VTIMEZONE
TZID:UTC
BEGIN:STANDARD
TZOFFSETFROM:+0000
TZOFFSETTO:+0000
TZNAME:UTC
DTSTART:20230101T000000
END:STANDARD
END:VTIMEZONE
BEGIN:VEVENT
DTSTART;TZID=UTC:20241231T090000
DTEND;TZID=UTC:20241231T150000
DTSTAMP:20260424T153347
CREATED:20241204T174256Z
LAST-MODIFIED:20241204T174256Z
UID:10389-1735635600-1735657200@psalmfm.org
SUMMARY:Bloodmobile- Bemidji
DESCRIPTION:Tuesday\, December 31\, 2024 \n09:00 am – 03:00 pm \nNorth Country Regional Hospital \n1300 Anne Street NW\nBemidji\, MN 56601 \nPrimary Blood Drive Coordinator: \nJillian Johnson\nEmail: Jillian.Johnson@SanfordHealth.org\nPhone: 218-333-6090
URL:https://psalmfm.org/event/bloodmobile-bemidji-6/
END:VEVENT
BEGIN:VEVENT
DTSTART;TZID=UTC:20241231T100000
DTEND;TZID=UTC:20250101T190000
DTSTAMP:20260424T153347
CREATED:20241029T161048Z
LAST-MODIFIED:20241212T155139Z
UID:10173-1735639200-1735758000@psalmfm.org
SUMMARY:Arrowhead Library System Bookmobile
DESCRIPTION:The Arrowhead Library System’s Bookmobile will stop at a location near you soon. \nWhen you can’t come to the library\, your library on wheels will come to you on: \n  \nTuesday\, Dec 31st \nCotton: Wilbert’s Cafe from 10-11 \nMeadowlands: Main Street from 1:30-2:45 \nIron: Crossroads Convenience from 6-7 \n 
URL:https://psalmfm.org/event/arrowhead-library-system-bookmobile/
END:VEVENT
END:VCALENDAR