BEGIN:VCALENDAR
VERSION:2.0
PRODID:-//PsalmFM - ECPv6.15.20//NONSGML v1.0//EN
CALSCALE:GREGORIAN
METHOD:PUBLISH
X-WR-CALNAME:PsalmFM
X-ORIGINAL-URL:https://psalmfm.org
X-WR-CALDESC:Events for PsalmFM
REFRESH-INTERVAL;VALUE=DURATION:PT1H
X-Robots-Tag:noindex
X-PUBLISHED-TTL:PT1H
BEGIN:VTIMEZONE
TZID:UTC
BEGIN:STANDARD
TZOFFSETFROM:+0000
TZOFFSETTO:+0000
TZNAME:UTC
DTSTART:20240101T000000
END:STANDARD
END:VTIMEZONE
BEGIN:VEVENT
DTSTART;TZID=UTC:20250108T080000
DTEND;TZID=UTC:20250115T170000
DTSTAMP:20260424T152727
CREATED:20250108T161714Z
LAST-MODIFIED:20250108T161714Z
UID:10519-1736323200-1736960400@psalmfm.org
SUMMARY:Bookmobile
DESCRIPTION:The Arrowhead Library System Bookmobile will be off the road Monday\, January 6th to Wednesday\, January 15 for vehicle repairs. All bookmobile items currently checked out to patrons will be renewed for 3 weeks from their appointed day.
URL:https://psalmfm.org/event/bookmobile/
END:VEVENT
BEGIN:VEVENT
DTSTART;TZID=UTC:20250110T090000
DTEND;TZID=UTC:20250110T150000
DTSTAMP:20260424T152727
CREATED:20250106T173148Z
LAST-MODIFIED:20250106T173148Z
UID:10480-1736499600-1736521200@psalmfm.org
SUMMARY:Bloodmobile- Grand Rapids
DESCRIPTION:Friday\, January 10\, 2025 \n09:00 am – 03:00 pm \nKiesler Wellness Center \n3130 SE 2nd Avenue\nGrand Rapids\, MN 55744 \nPrimary Blood Drive Coordinator \nAmy Glass\nEmail: amy.glass@northlandcounseling.org\nPhone: 218-999-4020
URL:https://psalmfm.org/event/bloodmobile-grand-rapids-18/
END:VEVENT
BEGIN:VEVENT
DTSTART;TZID=UTC:20250110T090000
DTEND;TZID=UTC:20250110T150000
DTSTAMP:20260424T152727
CREATED:20250106T173223Z
LAST-MODIFIED:20250106T173223Z
UID:10482-1736499600-1736521200@psalmfm.org
SUMMARY:Bloodmobile- Hibbing
DESCRIPTION:Friday\, January 10\, 2025 \n09:00 am – 03:00 pm \nHibbing High School \n800 East 21st Street\nHibbing\, MN 55746 \nPrimary Blood Drive Coordinator \nEmily Erickson\nEmail: emileric@hibbing.k12.mn.us\nPhone: 218-208-0848
URL:https://psalmfm.org/event/bloodmobile-hibbing/
END:VEVENT
END:VCALENDAR