BEGIN:VCALENDAR
VERSION:2.0
PRODID:-//PsalmFM - ECPv6.15.20//NONSGML v1.0//EN
CALSCALE:GREGORIAN
METHOD:PUBLISH
X-ORIGINAL-URL:https://psalmfm.org
X-WR-CALDESC:Events for PsalmFM
REFRESH-INTERVAL;VALUE=DURATION:PT1H
X-Robots-Tag:noindex
X-PUBLISHED-TTL:PT1H
BEGIN:VTIMEZONE
TZID:UTC
BEGIN:STANDARD
TZOFFSETFROM:+0000
TZOFFSETTO:+0000
TZNAME:UTC
DTSTART:20240101T000000
END:STANDARD
END:VTIMEZONE
BEGIN:VEVENT
DTSTART;TZID=UTC:20250118T100000
DTEND;TZID=UTC:20250118T150000
DTSTAMP:20260424T153445
CREATED:20250116T153729Z
LAST-MODIFIED:20250116T153729Z
UID:10548-1737194400-1737212400@psalmfm.org
SUMMARY:Winter Story Station Fun- Ifalls Library
DESCRIPTION:Saturday\, January 18·10:00am – 3:00pm\n\n\n\n\n\nFamilies with children under the age of 10 are encouraged to come visit the Int’l Falls Public Library and discover fun and games about winter. Read a story\, tell a story\, have a (mock) snowball fight and more.
URL:https://psalmfm.org/event/winter-story-station-fun-ifalls-library/
END:VEVENT
BEGIN:VEVENT
DTSTART;TZID=UTC:20250118T110000
DTEND;TZID=UTC:20250118T130000
DTSTAMP:20260424T153445
CREATED:20250116T153942Z
LAST-MODIFIED:20250116T153942Z
UID:10551-1737198000-1737205200@psalmfm.org
SUMMARY:Friends of the Library Book Sale-Ifalls Library
DESCRIPTION:Saturday\, January 18·11:00am – 1:00pm\n\n\n\n\n\nCome find a variety of titles for all ages in the basement book room of the Int’l Falls Public Library. All sales by donation with proceeds benefiting the Friends support of library programming.
URL:https://psalmfm.org/event/friends-of-the-library-book-sale-ifalls-library/
END:VEVENT
BEGIN:VEVENT
DTSTART;TZID=UTC:20250118T130000
DTEND;TZID=UTC:20250118T143000
DTSTAMP:20260424T153445
CREATED:20241223T183852Z
LAST-MODIFIED:20241223T183852Z
UID:10459-1737205200-1737210600@psalmfm.org
SUMMARY:Paint you Family Member@ Backus
DESCRIPTION:Join Backus Community Center in Int’l Falls for a fun\, warm\, family activity on January 18th starting at 1pm. $20 per pair. 8–16-year-olds must be accompanied by a guardian. RSVP to Backus by Friday\, January 17th by calling 218-285-7225.
URL:https://psalmfm.org/event/paint-you-family-member-backus/
END:VEVENT
BEGIN:VEVENT
DTSTART;TZID=UTC:20250118T140000
DTEND;TZID=UTC:20250118T160000
DTSTAMP:20260424T153445
CREATED:20241223T184100Z
LAST-MODIFIED:20241223T184100Z
UID:10461-1737208800-1737216000@psalmfm.org
SUMMARY:Free Family Fun Day @ Backus
DESCRIPTION:Backus Community Center invites you to a free family fun day on January 18th from 2-4 in the Backus Gymnasium. Minute to Win it Games\, bouncy house\, card games and more. All children under 16 must be accompanied by a guardian. \nConcessions will be available for purchase.
URL:https://psalmfm.org/event/free-family-fun-day-backus/
END:VEVENT
END:VCALENDAR