BEGIN:VCALENDAR
VERSION:2.0
PRODID:-//PsalmFM - ECPv6.15.20//NONSGML v1.0//EN
CALSCALE:GREGORIAN
METHOD:PUBLISH
X-WR-CALNAME:PsalmFM
X-ORIGINAL-URL:https://psalmfm.org
X-WR-CALDESC:Events for PsalmFM
REFRESH-INTERVAL;VALUE=DURATION:PT1H
X-Robots-Tag:noindex
X-PUBLISHED-TTL:PT1H
BEGIN:VTIMEZONE
TZID:UTC
BEGIN:STANDARD
TZOFFSETFROM:+0000
TZOFFSETTO:+0000
TZNAME:UTC
DTSTART:20240101T000000
END:STANDARD
END:VTIMEZONE
BEGIN:VEVENT
DTSTART;TZID=UTC:20250203T080000
DTEND;TZID=UTC:20250411T170000
DTSTAMP:20260424T122026
CREATED:20250116T153055Z
LAST-MODIFIED:20250116T153055Z
UID:10546-1738569600-1744390800@psalmfm.org
SUMMARY:Free Tax Preparation- Itasca County
DESCRIPTION:Free Tax Preparation for families and individuals of all ages and backgrounds \nFebruary 3rd-April 11th \nFor more information and appointments call 218-245-9202 \n-by appointment only-walk in service is not available \n-Tax-Aide Volunteers are IRS trained and certified every year \n  \nSponsored by AARP Foundation Tax-Aide and ElderCircle \n  \n 
URL:https://psalmfm.org/event/free-tax-preparation-itasca-county/
END:VEVENT
BEGIN:VEVENT
DTSTART;TZID=UTC:20250329T090000
DTEND;TZID=UTC:20250329T140000
DTSTAMP:20260424T122026
CREATED:20250325T160624Z
LAST-MODIFIED:20250326T164129Z
UID:10903-1743238800-1743256800@psalmfm.org
SUMMARY:March Food Drive-Ifalls
DESCRIPTION:Salvation Army’s March Food Drive \nIfalls Super One \nSaturday\, March 29th \n9am-2pm \nNon-perishable food items needed: canned fruits\, vegetables\, beans\, oatmeal\, cereal\, shelf milk\, peanut butter\, soups\, canned tuna\, canned chicken\, pasta sauces\, pastas. They will also appreciate monetary donations.
URL:https://psalmfm.org/event/march-food-drive-ifalls/
END:VEVENT
BEGIN:VEVENT
DTSTART;TZID=UTC:20250329T183000
DTEND;TZID=UTC:20250329T200000
DTSTAMP:20260424T122026
CREATED:20250122T171807Z
LAST-MODIFIED:20250122T171807Z
UID:10573-1743273000-1743278400@psalmfm.org
SUMMARY:Presence Music Band @ Good Shepherd Lutheran
DESCRIPTION:Join Brandon and Leah from Presence Music Band for an evening of acoustic worship on Saturday\, March 29th from 6:30-8pm at Good Shepherd Lutheran\, located at 230 3rd St S in Virginia. This is a free event but an offering will be taken to bless their ministry.
URL:https://psalmfm.org/event/presence-music-band-good-shepherd-lutheran/
END:VEVENT
END:VCALENDAR