BEGIN:VCALENDAR
VERSION:2.0
PRODID:-//PsalmFM - ECPv6.15.20//NONSGML v1.0//EN
CALSCALE:GREGORIAN
METHOD:PUBLISH
X-WR-CALNAME:PsalmFM
X-ORIGINAL-URL:https://psalmfm.org
X-WR-CALDESC:Events for PsalmFM
REFRESH-INTERVAL;VALUE=DURATION:PT1H
X-Robots-Tag:noindex
X-PUBLISHED-TTL:PT1H
BEGIN:VTIMEZONE
TZID:UTC
BEGIN:STANDARD
TZOFFSETFROM:+0000
TZOFFSETTO:+0000
TZNAME:UTC
DTSTART:20240101T000000
END:STANDARD
END:VTIMEZONE
BEGIN:VEVENT
DTSTART;TZID=UTC:20250203T080000
DTEND;TZID=UTC:20250411T170000
DTSTAMP:20260424T104304
CREATED:20250116T153055Z
LAST-MODIFIED:20250116T153055Z
UID:10546-1738569600-1744390800@psalmfm.org
SUMMARY:Free Tax Preparation- Itasca County
DESCRIPTION:Free Tax Preparation for families and individuals of all ages and backgrounds \nFebruary 3rd-April 11th \nFor more information and appointments call 218-245-9202 \n-by appointment only-walk in service is not available \n-Tax-Aide Volunteers are IRS trained and certified every year \n  \nSponsored by AARP Foundation Tax-Aide and ElderCircle \n  \n 
URL:https://psalmfm.org/event/free-tax-preparation-itasca-county/
END:VEVENT
BEGIN:VEVENT
DTSTART;TZID=UTC:20250405T080000
DTEND;TZID=UTC:20250406T170000
DTSTAMP:20260424T104304
CREATED:20250404T181756Z
LAST-MODIFIED:20250404T181756Z
UID:10956-1743840000-1743958800@psalmfm.org
SUMMARY:Missions Conference- New Beginnings Fellowship
DESCRIPTION:New Beginnings Fellowship is having a Missions Conference on April 5th and 6th. Featuring Matthew Pipke\, Mark Mast\, videos from around the world and more. New Beginnings Fellowship is located at 1301 Mill Rd in Fort Frances.
URL:https://psalmfm.org/event/missions-conference-new-beginnings-fellowship/
END:VEVENT
BEGIN:VEVENT
DTSTART;TZID=UTC:20250406T180000
DTEND;TZID=UTC:20250406T203000
DTSTAMP:20260424T104304
CREATED:20250313T170440Z
LAST-MODIFIED:20250313T170440Z
UID:10840-1743962400-1743971400@psalmfm.org
SUMMARY:Rhett Walker featuring Jordan Janzen\, Belle Isle and Presence Music Band @ GR Evangelical Free Church
DESCRIPTION:Grand Rapids Evangelical Free Church is excited to host a concert on Sunday\, April 6th from 6-8:30pm. Tickets starting at only $15! This event will sell out so get your tickets asap by going to their website at grefc.org or on Facebook at Grand Rapids Evangelical Free Church.\n\nFull band show Featuring:Presence Music BandBelle Isle WorshipJordan JanzenRhett Walker
URL:https://psalmfm.org/event/rhett-walker-featuring-jordan-janzen-belle-isle-and-presence-music-band-gr-evangelical-free-church/
END:VEVENT
END:VCALENDAR