BEGIN:VCALENDAR
VERSION:2.0
PRODID:-//PsalmFM - ECPv6.15.20//NONSGML v1.0//EN
CALSCALE:GREGORIAN
METHOD:PUBLISH
X-WR-CALNAME:PsalmFM
X-ORIGINAL-URL:https://psalmfm.org
X-WR-CALDESC:Events for PsalmFM
REFRESH-INTERVAL;VALUE=DURATION:PT1H
X-Robots-Tag:noindex
X-PUBLISHED-TTL:PT1H
BEGIN:VTIMEZONE
TZID:UTC
BEGIN:STANDARD
TZOFFSETFROM:+0000
TZOFFSETTO:+0000
TZNAME:UTC
DTSTART:20240101T000000
END:STANDARD
END:VTIMEZONE
BEGIN:VEVENT
DTSTART;TZID=UTC:20250203T080000
DTEND;TZID=UTC:20250411T170000
DTSTAMP:20260424T104335
CREATED:20250116T153055Z
LAST-MODIFIED:20250116T153055Z
UID:10546-1738569600-1744390800@psalmfm.org
SUMMARY:Free Tax Preparation- Itasca County
DESCRIPTION:Free Tax Preparation for families and individuals of all ages and backgrounds \nFebruary 3rd-April 11th \nFor more information and appointments call 218-245-9202 \n-by appointment only-walk in service is not available \n-Tax-Aide Volunteers are IRS trained and certified every year \n  \nSponsored by AARP Foundation Tax-Aide and ElderCircle \n  \n 
URL:https://psalmfm.org/event/free-tax-preparation-itasca-county/
END:VEVENT
BEGIN:VEVENT
DTSTART;TZID=UTC:20250411T103000
DTEND;TZID=UTC:20250411T200000
DTSTAMP:20260424T104335
CREATED:20250228T183011Z
LAST-MODIFIED:20250228T183011Z
UID:10805-1744367400-1744401600@psalmfm.org
SUMMARY:Northern Options Life and Laughter Galas 2025
DESCRIPTION:Two separate Galas will happen onApril 11 @ Thunderbird Lodge in Int’l Falls \nLuncheon $40 each – 10:30 am (3 choices baskets: Chicken Sandwich\, Walleye sandwich\, or Chicken Caesar Salad all 3 served with soup)Trivia\, raffles\, auction\, & speaker (table of 10 tickets $375) \nDinner $75 each 5:00 pm Surf & Turf (steak & broiled shrimp)Comedy Show with comedian Daren Streblow\, raffles\, auction & speaker (table of 10 tickets $700)
URL:https://psalmfm.org/event/northern-options-life-and-laughter-galas-2025/
END:VEVENT
BEGIN:VEVENT
DTSTART;TZID=UTC:20250411T170000
DTEND;TZID=UTC:20250411T200000
DTSTAMP:20260424T104335
CREATED:20250225T185136Z
LAST-MODIFIED:20250403T170752Z
UID:10791-1744390800-1744401600@psalmfm.org
SUMMARY:Mesabi Range Youth for Christ Championing Hope Gala
DESCRIPTION:The Mesabi Range Youth for Christ Championing Hope Gala\, a wonderful opportunity to celebrate what God has done and continues to do with Youth for Christ will be Friday\, April 11th\, from 5:00 PM-8:00 PM\, at the Mt Iron Community Center\, 8586 Enterprise Dr S\, Mt Iron\, MN. The evenings schedule includes a silent auction\, social hour\, dinner by Rose Cottage Baking Company\, and a live auction and program. Tickets are $55 per ticket\, $100 per couple\, and $750 to sponsor a table (8 tickets included). Call 218-290-4830.
URL:https://psalmfm.org/event/mesabi-range-youth-for-christ-championing-hope-gala/
END:VEVENT
END:VCALENDAR