BEGIN:VCALENDAR
VERSION:2.0
PRODID:-//PsalmFM - ECPv6.15.20//NONSGML v1.0//EN
CALSCALE:GREGORIAN
METHOD:PUBLISH
X-ORIGINAL-URL:https://psalmfm.org
X-WR-CALDESC:Events for PsalmFM
REFRESH-INTERVAL;VALUE=DURATION:PT1H
X-Robots-Tag:noindex
X-PUBLISHED-TTL:PT1H
BEGIN:VTIMEZONE
TZID:UTC
BEGIN:STANDARD
TZOFFSETFROM:+0000
TZOFFSETTO:+0000
TZNAME:UTC
DTSTART:20240101T000000
END:STANDARD
END:VTIMEZONE
BEGIN:VEVENT
DTSTART;TZID=UTC:20250417T080000
DTEND;TZID=UTC:20250429T170000
DTSTAMP:20260424T090640
CREATED:20250417T145343Z
LAST-MODIFIED:20250417T145343Z
UID:10986-1744876800-1745946000@psalmfm.org
SUMMARY:Northern Options Roses for Life Fundraiser
DESCRIPTION:Purchase one dozen roses for life.Orders can be made at the office\, by calling 218-283-8599 or online at northernoptions.orgRose  are assorted large roses ordered fresh from Florida arriving Wednesday May 7Each dozen will cost $40.00Half dozen $25.00Orders due by April 29\, 2025 \nNorthern Options is located at 923 5th Street in Int’l Falls
URL:https://psalmfm.org/event/northern-options-roses-for-life-fundraiser/
END:VEVENT
BEGIN:VEVENT
DTSTART;TZID=UTC:20250428T080000
DTEND;TZID=UTC:20250502T120000
DTSTAMP:20260424T090640
CREATED:20211011T163710Z
LAST-MODIFIED:20250428T161518Z
UID:5148-1745827200-1746187200@psalmfm.org
SUMMARY:Coffee Talk
DESCRIPTION:Coffee Talk is a drop-in chat line for older adults.  If you are like us and feeling a little up and down these days\, you might enjoy a good phone chat. \nGrab you favorite morning beverage\, you decide when to call for good company and engaging conversation. \nIt’s FREE and confidential. Tell a friend! \nMonday – Friday 8:00am to Noon \n218-293-4412 \nor toll free at 877-238-2282 \n 
URL:https://psalmfm.org/event/coffee-talk/
END:VEVENT
BEGIN:VEVENT
DTSTART;TZID=UTC:20250428T093000
DTEND;TZID=UTC:20250428T170000
DTSTAMP:20260424T090640
CREATED:20250324T165940Z
LAST-MODIFIED:20250324T165940Z
UID:10878-1745832600-1745859600@psalmfm.org
SUMMARY:Bloodmobile- Ely
DESCRIPTION:Monday\, April 28\, 2025 \n09:30 am – 05:00 pm \nEly Memorial High School \n600 East Harvey Street\nEly\, MN 55731 \nPrimary Blood Drive Coordinator: \nJill Swanson\nEmail: jswanson@ely.k12.mn.us\nPhone: 218-365-5254
URL:https://psalmfm.org/event/bloodmobile-ely-5/
END:VEVENT
BEGIN:VEVENT
DTSTART;TZID=UTC:20250428T160000
DTEND;TZID=UTC:20250502T170000
DTSTAMP:20260424T090640
CREATED:20250402T170021Z
LAST-MODIFIED:20250428T161600Z
UID:10942-1745856000-1746205200@psalmfm.org
SUMMARY:Hibbing Salvation Army Free Meals
DESCRIPTION:The Salvation Army of Hibbing has Free hot meals Monday-Friday from 4-4:45. They also have a free fellowship lunch after church on Sundays from 12-12:30. As always\, these meals are free and open to all. \nThe first Friday of every month Blessed Sacrament will be serving their homemade lasagnas.
URL:https://psalmfm.org/event/hibbing-salvation-army-free-meals/
END:VEVENT
END:VCALENDAR