BEGIN:VCALENDAR
VERSION:2.0
PRODID:-//PsalmFM - ECPv6.15.20//NONSGML v1.0//EN
CALSCALE:GREGORIAN
METHOD:PUBLISH
X-ORIGINAL-URL:https://psalmfm.org
X-WR-CALDESC:Events for PsalmFM
REFRESH-INTERVAL;VALUE=DURATION:PT1H
X-Robots-Tag:noindex
X-PUBLISHED-TTL:PT1H
BEGIN:VTIMEZONE
TZID:UTC
BEGIN:STANDARD
TZOFFSETFROM:+0000
TZOFFSETTO:+0000
TZNAME:UTC
DTSTART:20240101T000000
END:STANDARD
END:VTIMEZONE
BEGIN:VEVENT
DTSTART;TZID=UTC:20250602T090000
DTEND;TZID=UTC:20250606T120000
DTSTAMP:20260424T070526
CREATED:20250428T164945Z
LAST-MODIFIED:20250428T164945Z
UID:11017-1748854800-1749211200@psalmfm.org
SUMMARY:VBS- GR Evangelical Free Church
DESCRIPTION:The Grand Rapids Evangelical Free Church will be hosting a week of Vacation Bible School June 2-6 from 9-12. Kids are encouraged to travel with them to ancient Egypt where they learn about one of God’s chosen ones\, Joseph\, and his journey from prison to the palace. VBS is open to kids preschool to 5th grade and is free. Parents\, you can find out all the details\, including how to register by going to the church’s website at grefc.org.
URL:https://psalmfm.org/event/vbs-gr-evangelical-free-church/
END:VEVENT
BEGIN:VEVENT
DTSTART;TZID=UTC:20250603T080000
DTEND;TZID=UTC:20250605T170000
DTSTAMP:20260424T070526
CREATED:20250428T165905Z
LAST-MODIFIED:20250428T165905Z
UID:11019-1748937600-1749142800@psalmfm.org
SUMMARY:VBS- Hope and Bethesda Lutheran Churches
DESCRIPTION:Hope and Bethesda Lutheran Churches will be having their VBS\, Growing with Jesus\, at Hope Lutheran Church in Northome on June 3-5 from 2:15-5:30 (right after Northome Summer School). \nA light lunch will be available from 2:15-3 for those who come hungry. Sign up forms are available by calling Rena at 218-766-8907 or at the Hope Lutheran Church and Hope Bethesda Facebook page. \n“Grow in the grace and knowledge of our Lord and Savior Jesus Christ.” \n-2 Peter 3:18
URL:https://psalmfm.org/event/vbs-hope-and-bethesda-lutheran-churches/
END:VEVENT
END:VCALENDAR