BEGIN:VCALENDAR
VERSION:2.0
PRODID:-//PsalmFM - ECPv6.15.20//NONSGML v1.0//EN
CALSCALE:GREGORIAN
METHOD:PUBLISH
X-WR-CALNAME:PsalmFM
X-ORIGINAL-URL:https://psalmfm.org
X-WR-CALDESC:Events for PsalmFM
REFRESH-INTERVAL;VALUE=DURATION:PT1H
X-Robots-Tag:noindex
X-PUBLISHED-TTL:PT1H
BEGIN:VTIMEZONE
TZID:UTC
BEGIN:STANDARD
TZOFFSETFROM:+0000
TZOFFSETTO:+0000
TZNAME:UTC
DTSTART:20240101T000000
END:STANDARD
END:VTIMEZONE
BEGIN:VEVENT
DTSTART;TZID=UTC:20250608T190000
DTEND;TZID=UTC:20250608T210000
DTSTAMP:20260424T070531
CREATED:20250324T153937Z
LAST-MODIFIED:20250324T153937Z
UID:10873-1749409200-1749416400@psalmfm.org
SUMMARY:Dan Bremnes – THE HERO TOUR
DESCRIPTION:Presented by True Hope Ministries & Psalm FM – Join Dan Bremnes on his The Hero Tour for an unforgettable night of music\, faith\, and inspiration on Sunday\, June 8th from 7-9pm at the Nashwauk Alliance Church! Experience his powerful storytelling and heartfelt worship as he takes you on a journey through songs that speak to the soul.\nSpecial guest openers Presence Music Band will open the night\, setting the atmosphere with passionate\, spirit-filled music. Don’t miss this incredible evening of live music and connection.\n\nBuy tickets by going to tickettailor.com/events/alignedtalentagency/1633159 or by clicking on the link on their Facebook page at Nashwauk Alliance Church\n\nDoors Open at 6:30 pm for General Admission ticket holders\, tickets start at only $15!\nDoors Open at 5:30 for VIP ticket holders. Q&A/Meet & Greet at 5:45pm
URL:https://psalmfm.org/event/dan-bremnes-the-hero-tour/
END:VEVENT
END:VCALENDAR