BEGIN:VCALENDAR
VERSION:2.0
PRODID:-//PsalmFM - ECPv6.15.20//NONSGML v1.0//EN
CALSCALE:GREGORIAN
METHOD:PUBLISH
X-ORIGINAL-URL:https://psalmfm.org
X-WR-CALDESC:Events for PsalmFM
REFRESH-INTERVAL;VALUE=DURATION:PT1H
X-Robots-Tag:noindex
X-PUBLISHED-TTL:PT1H
BEGIN:VTIMEZONE
TZID:UTC
BEGIN:STANDARD
TZOFFSETFROM:+0000
TZOFFSETTO:+0000
TZNAME:UTC
DTSTART:20240101T000000
END:STANDARD
END:VTIMEZONE
BEGIN:VEVENT
DTSTART;TZID=UTC:20250617T100000
DTEND;TZID=UTC:20250619T113000
DTSTAMP:20260424T065728
CREATED:20250613T163200Z
LAST-MODIFIED:20250613T163200Z
UID:11213-1750154400-1750332600@psalmfm.org
SUMMARY:VBS- Ifalls Covenant Church
DESCRIPTION:VBS at the Evangelical Covenant Church in Ifalls will be June 17-19 from 10-11:30 for kids K-5th grade. \nFor more information call the church at (218) 283-3365
URL:https://psalmfm.org/event/vbs-ifalls-covenant-church/
END:VEVENT
BEGIN:VEVENT
DTSTART;TZID=UTC:20250617T160000
DTEND;TZID=UTC:20250617T190000
DTSTAMP:20260424T065728
CREATED:20250613T163521Z
LAST-MODIFIED:20250613T163521Z
UID:11215-1750176000-1750186800@psalmfm.org
SUMMARY:Jesse Lake Lutheran Free Community Meal
DESCRIPTION:Jesse Lake Lutheran Church will be having a free community taco meal on Tuesday\, June 17th from 4-6. Take out is available. \nAfter the meal there will be Bingo from 6-7. \nDonations of non-perishable food\, personal care items\, and/or cash accepted for the Bigfork Food Shelf. \nAll are welcome! \nJesse Lake Lutheran is located at 45834 County Road 4 in Talmoon.
URL:https://psalmfm.org/event/jesse-lake-lutheran-free-community-meal/
END:VEVENT
END:VCALENDAR