BEGIN:VCALENDAR
VERSION:2.0
PRODID:-//PsalmFM - ECPv6.15.20//NONSGML v1.0//EN
CALSCALE:GREGORIAN
METHOD:PUBLISH
X-ORIGINAL-URL:https://psalmfm.org
X-WR-CALDESC:Events for PsalmFM
REFRESH-INTERVAL;VALUE=DURATION:PT1H
X-Robots-Tag:noindex
X-PUBLISHED-TTL:PT1H
BEGIN:VTIMEZONE
TZID:UTC
BEGIN:STANDARD
TZOFFSETFROM:+0000
TZOFFSETTO:+0000
TZNAME:UTC
DTSTART:20240101T000000
END:STANDARD
END:VTIMEZONE
BEGIN:VEVENT
DTSTART;TZID=UTC:20250620T100000
DTEND;TZID=UTC:20250620T160000
DTSTAMP:20260424T065726
CREATED:20250604T160448Z
LAST-MODIFIED:20250604T160515Z
UID:11135-1750413600-1750435200@psalmfm.org
SUMMARY:Bloodmobile- Grand Rapids
DESCRIPTION:Friday\, June 20\, 2025 \n10:00 am – 04:00 pm \nGuardian Flight \n1500 SE 7th Ave\nParking Lot\nGrand Rapids\, MN 55744 \nPrimary Blood Drive Coordinator: \nDave Harju\nEmail: David.Harju@gmr.net
URL:https://psalmfm.org/event/bloodmobile-grand-rapids-32/
END:VEVENT
END:VCALENDAR