BEGIN:VCALENDAR
VERSION:2.0
PRODID:-//PsalmFM - ECPv6.15.20//NONSGML v1.0//EN
CALSCALE:GREGORIAN
METHOD:PUBLISH
X-ORIGINAL-URL:https://psalmfm.org
X-WR-CALDESC:Events for PsalmFM
REFRESH-INTERVAL;VALUE=DURATION:PT1H
X-Robots-Tag:noindex
X-PUBLISHED-TTL:PT1H
BEGIN:VTIMEZONE
TZID:UTC
BEGIN:STANDARD
TZOFFSETFROM:+0000
TZOFFSETTO:+0000
TZNAME:UTC
DTSTART:20240101T000000
END:STANDARD
END:VTIMEZONE
BEGIN:VEVENT
DTSTART;TZID=UTC:20250702T100000
DTEND;TZID=UTC:20250702T180000
DTSTAMP:20260424T051327
CREATED:20250616T182951Z
LAST-MODIFIED:20250616T182951Z
UID:11239-1751450400-1751479200@psalmfm.org
SUMMARY:Bloodmobile- Ely
DESCRIPTION:Wednesday\, July 02\, 2025 \n10:00 am – 06:00 pm \nEly Bloomenson Community Hospital\n328 W. Conan St.\nEly\, MN 55731 \nPrimary Blood Drive Coordinator: \nMary Wognum\nEmail: mwognum@ebch.org\nPhone: 218-365-8751
URL:https://psalmfm.org/event/bloodmobile-ely-6/
END:VEVENT
BEGIN:VEVENT
DTSTART;TZID=UTC:20250702T120000
DTEND;TZID=UTC:20250702T130000
DTSTAMP:20260424T051327
CREATED:20250606T151905Z
LAST-MODIFIED:20250612T163217Z
UID:11164-1751457600-1751461200@psalmfm.org
SUMMARY:Bemidji Area Church Musicians Recital Series
DESCRIPTION:The 38th season of the Summer Recital Series presented by the Bemidji Area Church Musicians\n(BACM) continues on Wednesday July 2\, 2025\, 12:00 noon\, at St. Mark’s Lutheran Church. The recital\nwill feature musicians of the St. Mark’s congregation performing a number of selections in a variety of\nstyles.\nA luncheon will follow the 30-minute concert with a price to be announced. St. Mark’s Lutheran\nChurch is located at 2220 Anne St. NW\, Bemidj.\nA free-will offering will be received at the door for the Scholarship programs of the Bemidji Area Church Musicians.\nThe public is cordially invited to all of the recitals in the season. \nFor further information call Barbara Fisher (218-556-0098) or Carol L. Johnson (218-751-0415).
URL:https://psalmfm.org/event/bemidji-area-church-musicians-recital-series-9/
END:VEVENT
END:VCALENDAR