BEGIN:VCALENDAR
VERSION:2.0
PRODID:-//PsalmFM - ECPv6.15.20//NONSGML v1.0//EN
CALSCALE:GREGORIAN
METHOD:PUBLISH
X-ORIGINAL-URL:https://psalmfm.org
X-WR-CALDESC:Events for PsalmFM
REFRESH-INTERVAL;VALUE=DURATION:PT1H
X-Robots-Tag:noindex
X-PUBLISHED-TTL:PT1H
BEGIN:VTIMEZONE
TZID:UTC
BEGIN:STANDARD
TZOFFSETFROM:+0000
TZOFFSETTO:+0000
TZNAME:UTC
DTSTART:20240101T000000
END:STANDARD
END:VTIMEZONE
BEGIN:VEVENT
DTSTART;TZID=UTC:20250704T080000
DTEND;TZID=UTC:20250704T170000
DTSTAMP:20260424T051243
CREATED:20250630T135027Z
LAST-MODIFIED:20250630T135027Z
UID:11300-1751616000-1751648400@psalmfm.org
SUMMARY:Independence Day Activities in Ely
DESCRIPTION:Start your 4th of July celebration with a walk/run around Miner’s Lake on the Trezona Trail at 8:00 am. Tables will be set up to pay and register in front of the parking lot at the Ely Veterans Memorial. \nThe raising of the flag at the Ely Veterans Memorial\, with the American Legion and the VFW Commanders\, along with the Ely Honor Guard will have a short Patriotic Program at 10:00 am. \nEly Young Life Carnival will be in Whiteside Park with picnic food in the pavilion and activities for kids\, adults\, and families throughout Whiteside Park from 11:00 am to 4:00 pm. \nFighter jets will do a flyover at about noon. \nEly’s famous 4th of July parade will start at 1:00 pm. \nAnd to finish out this day of celebration\, the fireworks will begin at dusk.
URL:https://psalmfm.org/event/independence-day-activities-in-ely/
END:VEVENT
BEGIN:VEVENT
DTSTART;TZID=UTC:20250704T080000
DTEND;TZID=UTC:20250704T220000
DTSTAMP:20260424T051243
CREATED:20250703T123842Z
LAST-MODIFIED:20250703T123842Z
UID:11310-1751616000-1751666400@psalmfm.org
SUMMARY:Independence Day events on the Iron Range
DESCRIPTION:Fourth of July on the Iron Range: 2025 Edition
URL:https://psalmfm.org/event/independence-day-events-on-the-iron-range/
END:VEVENT
BEGIN:VEVENT
DTSTART;TZID=UTC:20250704T080000
DTEND;TZID=UTC:20250704T230000
DTSTAMP:20260424T051243
CREATED:20250630T134448Z
LAST-MODIFIED:20250630T134544Z
UID:11296-1751616000-1751670000@psalmfm.org
SUMMARY:Independence Day activities in Int'l Falls
DESCRIPTION:Celebrate Independence Day in International Falls!
URL:https://psalmfm.org/event/11296/
END:VEVENT
END:VCALENDAR