BEGIN:VCALENDAR
VERSION:2.0
PRODID:-//PsalmFM - ECPv6.15.20//NONSGML v1.0//EN
CALSCALE:GREGORIAN
METHOD:PUBLISH
X-WR-CALNAME:PsalmFM
X-ORIGINAL-URL:https://psalmfm.org
X-WR-CALDESC:Events for PsalmFM
REFRESH-INTERVAL;VALUE=DURATION:PT1H
X-Robots-Tag:noindex
X-PUBLISHED-TTL:PT1H
BEGIN:VTIMEZONE
TZID:UTC
BEGIN:STANDARD
TZOFFSETFROM:+0000
TZOFFSETTO:+0000
TZNAME:UTC
DTSTART:20240101T000000
END:STANDARD
END:VTIMEZONE
BEGIN:VEVENT
DTSTART;TZID=UTC:20250713T080000
DTEND;TZID=UTC:20250713T093000
DTSTAMP:20260424T051130
CREATED:20250630T134011Z
LAST-MODIFIED:20250630T134113Z
UID:11294-1752393600-1752399000@psalmfm.org
SUMMARY:Pleasant Hill Baptist Church (IFalls)
DESCRIPTION:Pleasant Hill Baptist Church will hold its first Sunday service at 8 a.m. on July 13. You’re invited to join them in studying the book of Daniel. Located at 2726 Pleasant Ave. in International Falls\, there will be a free book for everyone who attends. \nIf you have questions\, call Pastor Larry Connors at 865-963-9055.
URL:https://psalmfm.org/event/pleasant-hill-baptist-church-ifalls/
END:VEVENT
END:VCALENDAR