BEGIN:VCALENDAR
VERSION:2.0
PRODID:-//PsalmFM - ECPv6.15.20//NONSGML v1.0//EN
CALSCALE:GREGORIAN
METHOD:PUBLISH
X-WR-CALNAME:PsalmFM
X-ORIGINAL-URL:https://psalmfm.org
X-WR-CALDESC:Events for PsalmFM
REFRESH-INTERVAL;VALUE=DURATION:PT1H
X-Robots-Tag:noindex
X-PUBLISHED-TTL:PT1H
BEGIN:VTIMEZONE
TZID:UTC
BEGIN:STANDARD
TZOFFSETFROM:+0000
TZOFFSETTO:+0000
TZNAME:UTC
DTSTART:20240101T000000
END:STANDARD
END:VTIMEZONE
BEGIN:VEVENT
DTSTART;TZID=UTC:20250714T090000
DTEND;TZID=UTC:20250717T150000
DTSTAMP:20260424T051148
CREATED:20250502T163031Z
LAST-MODIFIED:20250502T163031Z
UID:11065-1752483600-1752764400@psalmfm.org
SUMMARY:VBS- Baudette Lutheran Parish
DESCRIPTION:Join the Baudette Lutheran Parish as they have fun and learn how God’s Word comes near to us in Trusting\, Listening\, Serving and Following!\nJuly 14-179:00-11:00 for 3-year-olds-Kindergarten**All kids must be pottytrained.\n\n12:00-3:00 for 1st grade-6th grade\n\nLooking to volunteer? Email info@baudettelutheranparish.org! Anyone 7th grade and older can volunteer to help!\n\nRegister here: https://forms.gle/PaqeMn2dS5F1nWq68
URL:https://psalmfm.org/event/vbs-baudette-lutheran-parish/
END:VEVENT
END:VCALENDAR