BEGIN:VCALENDAR
VERSION:2.0
PRODID:-//PsalmFM - ECPv6.15.20//NONSGML v1.0//EN
CALSCALE:GREGORIAN
METHOD:PUBLISH
X-ORIGINAL-URL:https://psalmfm.org
X-WR-CALDESC:Events for PsalmFM
REFRESH-INTERVAL;VALUE=DURATION:PT1H
X-Robots-Tag:noindex
X-PUBLISHED-TTL:PT1H
BEGIN:VTIMEZONE
TZID:UTC
BEGIN:STANDARD
TZOFFSETFROM:+0000
TZOFFSETTO:+0000
TZNAME:UTC
DTSTART:20240101T000000
END:STANDARD
END:VTIMEZONE
BEGIN:VEVENT
DTSTART;TZID=UTC:20250722T120000
DTEND;TZID=UTC:20250722T160000
DTSTAMP:20260424T050453
CREATED:20250616T183040Z
LAST-MODIFIED:20250616T183040Z
UID:11241-1753185600-1753200000@psalmfm.org
SUMMARY:Bloodmobile- Iron
DESCRIPTION:Tuesday\, July 22\, 2025 \n12:00 pm – 04:00 pm \nCherry School \n3943 Tamminen Road\nIron\, MN 55751 \nPrimary Blood Drive Coordinator: \nChelsea Anderson\nEmail: ceanderson@isd2142.k12.mn.us\nPhone: 218-258-8991
URL:https://psalmfm.org/event/bloodmobile-iron-3/
END:VEVENT
END:VCALENDAR