BEGIN:VCALENDAR
VERSION:2.0
PRODID:-//PsalmFM - ECPv6.15.20//NONSGML v1.0//EN
CALSCALE:GREGORIAN
METHOD:PUBLISH
X-ORIGINAL-URL:https://psalmfm.org
X-WR-CALDESC:Events for PsalmFM
REFRESH-INTERVAL;VALUE=DURATION:PT1H
X-Robots-Tag:noindex
X-PUBLISHED-TTL:PT1H
BEGIN:VTIMEZONE
TZID:UTC
BEGIN:STANDARD
TZOFFSETFROM:+0000
TZOFFSETTO:+0000
TZNAME:UTC
DTSTART:20240101T000000
END:STANDARD
END:VTIMEZONE
BEGIN:VEVENT
DTSTART;TZID=UTC:20250723T120000
DTEND;TZID=UTC:20250723T130000
DTSTAMP:20260424T050644
CREATED:20250606T151346Z
LAST-MODIFIED:20250612T162957Z
UID:11158-1753272000-1753275600@psalmfm.org
SUMMARY:Bemidji Area Church Musicians Recital Series
DESCRIPTION:The 38th season of the Summer Recital Series presented by the Bemidji Area Church Musicians\n(BACM) continues on Wednesday July 23\, 2025\, 12:00 noon\, at the United Methodist Church in\nBemidji. This concert will feature Glenn Seibel on the euphonium and Wayne Hoff on the piano. This\ntalented duo has performed together for many years and are always a pleasure to hear.\nA luncheon will follow the 30-minute concert with a price to be announced. United Methodist Church\nis located at 924 Beltrami Ave. NW\, Bemidji.\nA free-will offering will be received at the door for the Scholarship programs of the Bemidji Area Church Musicians.\nThe public is cordially invited to all of the recitals in the season. \nFor further information call Barbara Fisher (218-556-0098) or Carol L. Johnson (218-751-0415).
URL:https://psalmfm.org/event/bemidji-area-church-musicians-recital-series-6/
END:VEVENT
END:VCALENDAR