BEGIN:VCALENDAR
VERSION:2.0
PRODID:-//PsalmFM - ECPv6.15.20//NONSGML v1.0//EN
CALSCALE:GREGORIAN
METHOD:PUBLISH
X-ORIGINAL-URL:https://psalmfm.org
X-WR-CALDESC:Events for PsalmFM
REFRESH-INTERVAL;VALUE=DURATION:PT1H
X-Robots-Tag:noindex
X-PUBLISHED-TTL:PT1H
BEGIN:VTIMEZONE
TZID:UTC
BEGIN:STANDARD
TZOFFSETFROM:+0000
TZOFFSETTO:+0000
TZNAME:UTC
DTSTART:20240101T000000
END:STANDARD
END:VTIMEZONE
BEGIN:VEVENT
DTSTART;TZID=UTC:20250804T100000
DTEND;TZID=UTC:20250808T120000
DTSTAMP:20260424T033028
CREATED:20250801T154036Z
LAST-MODIFIED:20250801T154036Z
UID:11403-1754301600-1754654400@psalmfm.org
SUMMARY:VBS- Babbitt Assembly of God
DESCRIPTION:True North VBS for kids ages 4 – 12 will be happening at Babbitt Assembly of God on Monday\, August 4 thru Fri. August 8th from 10 – Noon each day. Please register online at Myvbs.org/bag
URL:https://psalmfm.org/event/vbs-babbitt-assembly-of-god/
END:VEVENT
BEGIN:VEVENT
DTSTART;VALUE=DATE:20250808
DTEND;VALUE=DATE:20250811
DTSTAMP:20260424T033028
CREATED:20250619T112239Z
LAST-MODIFIED:20250619T112239Z
UID:11260-1754611200-1754870399@psalmfm.org
SUMMARY:Koochiching County Fair
DESCRIPTION:Don’t miss the 119th Koochiching County Fair!
URL:https://psalmfm.org/event/koochiching-county-fair/
LOCATION:Koochiching County Fairgrounds\, 12103 HWY 71 N\, Northome\, MN\, United States
END:VEVENT
BEGIN:VEVENT
DTSTART;TZID=UTC:20250808T103000
DTEND;TZID=UTC:20250808T120000
DTSTAMP:20260424T033029
CREATED:20240607T161203Z
LAST-MODIFIED:20250804T163420Z
UID:9354-1754649000-1754654400@psalmfm.org
SUMMARY:Big Play @ Ifalls Public Library
DESCRIPTION:Join the Ifalls Library each Friday from 10:30-noon on the lawn (weather permitting) or in the meeting room for all kinds of fun. Games and activities for children 0-10. \nJune 6th-August 8th
URL:https://psalmfm.org/event/big-play-ifalls-public-library/
END:VEVENT
BEGIN:VEVENT
DTSTART;TZID=UTC:20250808T180000
DTEND;TZID=UTC:20250808T200000
DTSTAMP:20260424T033029
CREATED:20250701T170058Z
LAST-MODIFIED:20250701T170058Z
UID:11307-1754676000-1754683200@psalmfm.org
SUMMARY:Family Carnival
DESCRIPTION:There will be a family carnival Thursday\, Aug. 8\, at 6 p.m. at First Baptist Church in International Falls. Come enjoy a bouncy house\, hamburgers and hot dogs\, yard game\, cotton candy\, and more. Everyone is welcome!
URL:https://psalmfm.org/event/family-carnival/
LOCATION:First Baptist Church I Falls\, 115 Shorewood Drive\, Int'l Falls\, MN\, 56649
END:VEVENT
BEGIN:VEVENT
DTSTART;TZID=UTC:20250808T200000
DTEND;TZID=UTC:20250808T230000
DTSTAMP:20260424T033029
CREATED:20250724T162020Z
LAST-MODIFIED:20250724T162020Z
UID:11387-1754683200-1754694000@psalmfm.org
SUMMARY:Young Adult Worship on the Roof & Dry Bar Night-Warroad
DESCRIPTION:Warroad Ministerial invites 18–35-year-olds to a Young Adult Worship on the Roof & Dry Bar Night on the Hampton Inn rooftop. On Friday\, August 8th from 8-11pm there will live worship music\, a short message\, and time to just hang out. Feel free to come early and order food of the menu. Mocktails (dry bar) and soda beverages will be from the main floor restaurant.
URL:https://psalmfm.org/event/young-adult-worship-on-the-roof-dry-bar-night-warroad/
END:VEVENT
END:VCALENDAR