BEGIN:VCALENDAR
VERSION:2.0
PRODID:-//PsalmFM - ECPv6.15.20//NONSGML v1.0//EN
CALSCALE:GREGORIAN
METHOD:PUBLISH
X-WR-CALNAME:PsalmFM
X-ORIGINAL-URL:https://psalmfm.org
X-WR-CALDESC:Events for PsalmFM
REFRESH-INTERVAL;VALUE=DURATION:PT1H
X-Robots-Tag:noindex
X-PUBLISHED-TTL:PT1H
BEGIN:VTIMEZONE
TZID:UTC
BEGIN:STANDARD
TZOFFSETFROM:+0000
TZOFFSETTO:+0000
TZNAME:UTC
DTSTART:20240101T000000
END:STANDARD
END:VTIMEZONE
BEGIN:VEVENT
DTSTART;TZID=UTC:20250820T120000
DTEND;TZID=UTC:20250820T130000
DTSTAMP:20260424T033421
CREATED:20250722T165510Z
LAST-MODIFIED:20250722T165524Z
UID:11378-1755691200-1755694800@psalmfm.org
SUMMARY:Bemidji Area Church Musicians Recital Series-First Lutheran Church
DESCRIPTION:The 38th season of the Summer Recital Series presented by the Bemidji Area Church Musicians\n(BACM) continues on Wednesday August 20\, 2025\, 12:00 noon\, at the First Lutheran Church. The\nconcert will feature Sarah Carlson at the organ\, Merideth Klingbeil at the organ\, Bob Madeson on the\neuphonium and 2024 Scholarship recipient\, Claire Carlson. A variety of selections in varied styles will\npresented.\nA luncheon will follow the 30-minute concert with a price to be announced. First Lutheran Church is\nlocated at 900 Bemidji Ave N\, Bemidji.\nThe public is invited to attend this recital. A free-will offering will be received at the door for the\nScholarship programs of the Bemidji Area Church Musicians.\nThe public is cordially invited to all of the recitals in the season. For further information call Barbara\nFisher (218-556-0098) or Carol L. Johnson (218-751-0415).
URL:https://psalmfm.org/event/bemidji-area-church-musicians-recital-series-10/
END:VEVENT
BEGIN:VEVENT
DTSTART;TZID=UTC:20250820T120000
DTEND;TZID=UTC:20250820T160000
DTSTAMP:20260424T033421
CREATED:20250414T172207Z
LAST-MODIFIED:20250818T165210Z
UID:10972-1755691200-1755705600@psalmfm.org
SUMMARY:Household Hazardous Waste Collection Schedule
DESCRIPTION:  \nInt’l Falls/Transfer Station *residential & business collection- Wednesday\, August 20th 12-4 (businesses must pre-register by calling (218)726-1602) \n 
URL:https://psalmfm.org/event/household-hazardous-waste-collection-schedule/
END:VEVENT
BEGIN:VEVENT
DTSTART;TZID=UTC:20250820T140000
DTEND;TZID=UTC:20250820T180000
DTSTAMP:20260424T033421
CREATED:20250722T155744Z
LAST-MODIFIED:20250722T155744Z
UID:11364-1755698400-1755712800@psalmfm.org
SUMMARY:Bloodmobile- Grand Rapids
DESCRIPTION:Wednesday\, August 20\, 2025 \n02:00 pm – 06:00 pm \nKlockow Brewing Company \n36 SE 10th Street\nParking Lot\nGrand Rapids\, MN 55744 \nPrimary Blood Drive Coordinator: \nKatheryn Hamm\nEmail: khamm@mbc.org\nPhone: 218-349-5796
URL:https://psalmfm.org/event/bloodmobile-grand-rapids-39/
END:VEVENT
END:VCALENDAR