BEGIN:VCALENDAR
VERSION:2.0
PRODID:-//PsalmFM - ECPv6.15.20//NONSGML v1.0//EN
CALSCALE:GREGORIAN
METHOD:PUBLISH
X-ORIGINAL-URL:https://psalmfm.org
X-WR-CALDESC:Events for PsalmFM
REFRESH-INTERVAL;VALUE=DURATION:PT1H
X-Robots-Tag:noindex
X-PUBLISHED-TTL:PT1H
BEGIN:VTIMEZONE
TZID:UTC
BEGIN:STANDARD
TZOFFSETFROM:+0000
TZOFFSETTO:+0000
TZNAME:UTC
DTSTART:20240101T000000
END:STANDARD
END:VTIMEZONE
BEGIN:VEVENT
DTSTART;TZID=UTC:20250831T100000
DTEND;TZID=UTC:20250831T120000
DTSTAMP:20260424T033446
CREATED:20250827T175742Z
LAST-MODIFIED:20250827T175742Z
UID:11477-1756634400-1756641600@psalmfm.org
SUMMARY:Iron Range Renewal All Church Service
DESCRIPTION:There will be an Iron Range Renewal all church service at the Minnesota Discovery Center on August 31st with coffee and fellowship at 10am and service starting at 11am.
URL:https://psalmfm.org/event/iron-range-renewal-all-church-service/
END:VEVENT
END:VCALENDAR