BEGIN:VCALENDAR
VERSION:2.0
PRODID:-//PsalmFM - ECPv6.15.20//NONSGML v1.0//EN
CALSCALE:GREGORIAN
METHOD:PUBLISH
X-WR-CALNAME:PsalmFM
X-ORIGINAL-URL:https://psalmfm.org
X-WR-CALDESC:Events for PsalmFM
REFRESH-INTERVAL;VALUE=DURATION:PT1H
X-Robots-Tag:noindex
X-PUBLISHED-TTL:PT1H
BEGIN:VTIMEZONE
TZID:UTC
BEGIN:STANDARD
TZOFFSETFROM:+0000
TZOFFSETTO:+0000
TZNAME:UTC
DTSTART:20240101T000000
END:STANDARD
END:VTIMEZONE
BEGIN:VEVENT
DTSTART;TZID=UTC:20250916T110000
DTEND;TZID=UTC:20250916T120000
DTSTAMP:20260424T015343
CREATED:20250505T151732Z
LAST-MODIFIED:20250821T153930Z
UID:11075-1758020400-1758024000@psalmfm.org
SUMMARY:Foster Together Monthly Parent Support Group
DESCRIPTION:Join Foster Together for a monthly online support group created for foster\, kinship\, and adoptive parents!  \nOpen to everyone\, this inclusive group offers a safe and welcoming space to connect with others who understand the unique joys and challenges of your journey.  \nEach session is designed to provide encouragement\, valuable insights\, and meaningful support\, empowering you as you care for the children in your life. Be part of a compassionate community that uplifts\, inspires\, and walks alongside you every step of the way!  \nThey meet the 3rd Tuesday of each month at 11:00am.  \n A Zoom meeting link will be emailed in registration confirmation.  \nPlease go to fostertogethermn.org/schedule to RSVP.
URL:https://psalmfm.org/event/foster-together-monthly-parent-support-group/
END:VEVENT
END:VCALENDAR