BEGIN:VCALENDAR
VERSION:2.0
PRODID:-//PsalmFM - ECPv6.15.20//NONSGML v1.0//EN
CALSCALE:GREGORIAN
METHOD:PUBLISH
X-WR-CALNAME:PsalmFM
X-ORIGINAL-URL:https://psalmfm.org
X-WR-CALDESC:Events for PsalmFM
REFRESH-INTERVAL;VALUE=DURATION:PT1H
X-Robots-Tag:noindex
X-PUBLISHED-TTL:PT1H
BEGIN:VTIMEZONE
TZID:UTC
BEGIN:STANDARD
TZOFFSETFROM:+0000
TZOFFSETTO:+0000
TZNAME:UTC
DTSTART:20240101T000000
END:STANDARD
END:VTIMEZONE
BEGIN:VEVENT
DTSTART;TZID=UTC:20250917T130000
DTEND;TZID=UTC:20250917T170000
DTSTAMP:20260424T033420
CREATED:20250829T152429Z
LAST-MODIFIED:20250829T152429Z
UID:11496-1758114000-1758128400@psalmfm.org
SUMMARY:Dying- The Last New Thing You'll Ever Do- Backus Community Center
DESCRIPTION:Let’s talk about the tough stuff with Gale Gagnier\, RN\, Death Doula \nBackus Community Center Room 101/102 \nWednesday\, September 17th from 1-5 \nOR \nSaturday\, September 20th from 9-1 \n$50 per person \nCall 218-285-7225 to sign up \n 
URL:https://psalmfm.org/event/dying-the-last-new-thing-youll-ever-do-backus-community-center/
END:VEVENT
BEGIN:VEVENT
DTSTART;TZID=UTC:20250917T180000
DTEND;TZID=UTC:20250917T200000
DTSTAMP:20260424T033420
CREATED:20250917T113044Z
LAST-MODIFIED:20250917T113044Z
UID:11584-1758132000-1758139200@psalmfm.org
SUMMARY:Teens and Youth (Aurora\, MN)
DESCRIPTION:First Baptist Church of Aurora invites all teens and youth to the kickoff event Wednesday\, Sept. 17\, at 6:00 p.m. It starts with a potluck dinner\, so bring a dish to share and come on out!
URL:https://psalmfm.org/event/teens-and-youth-aurora-mn/
LOCATION:Aurora First Baptist Church\, 5491 Poplar Street\, Aurora\, MN
END:VEVENT
END:VCALENDAR