BEGIN:VCALENDAR
VERSION:2.0
PRODID:-//PsalmFM - ECPv6.15.20//NONSGML v1.0//EN
CALSCALE:GREGORIAN
METHOD:PUBLISH
X-ORIGINAL-URL:https://psalmfm.org
X-WR-CALDESC:Events for PsalmFM
REFRESH-INTERVAL;VALUE=DURATION:PT1H
X-Robots-Tag:noindex
X-PUBLISHED-TTL:PT1H
BEGIN:VTIMEZONE
TZID:UTC
BEGIN:STANDARD
TZOFFSETFROM:+0000
TZOFFSETTO:+0000
TZNAME:UTC
DTSTART:20240101T000000
END:STANDARD
END:VTIMEZONE
BEGIN:VEVENT
DTSTART;TZID=UTC:20250922T090000
DTEND;TZID=UTC:20250922T130000
DTSTAMP:20260424T015458
CREATED:20250905T191411Z
LAST-MODIFIED:20250905T191411Z
UID:11530-1758531600-1758546000@psalmfm.org
SUMMARY:Bloodmobile- Virginia
DESCRIPTION:Monday\, September 22\, 2025 \n09:00 am – 01:00 pm \nRock Ridge High School \n1403 Progress Pkwy\nParking Lot\nVirginia\, MN 55792 \nPrimary Blood Drive Coordinator: \nMary Rantala\nEmail: mary.rantala@rrps.org\nPhone: 218-735-3500
URL:https://psalmfm.org/event/bloodmobile-virginia-9/
END:VEVENT
END:VCALENDAR