BEGIN:VCALENDAR
VERSION:2.0
PRODID:-//PsalmFM - ECPv6.15.20//NONSGML v1.0//EN
CALSCALE:GREGORIAN
METHOD:PUBLISH
X-WR-CALNAME:PsalmFM
X-ORIGINAL-URL:https://psalmfm.org
X-WR-CALDESC:Events for PsalmFM
REFRESH-INTERVAL;VALUE=DURATION:PT1H
X-Robots-Tag:noindex
X-PUBLISHED-TTL:PT1H
BEGIN:VTIMEZONE
TZID:UTC
BEGIN:STANDARD
TZOFFSETFROM:+0000
TZOFFSETTO:+0000
TZNAME:UTC
DTSTART:20240101T000000
END:STANDARD
END:VTIMEZONE
BEGIN:VEVENT
DTSTART;TZID=UTC:20251002T080000
DTEND;TZID=UTC:20251002T160000
DTSTAMP:20260424T001607
CREATED:20250829T152800Z
LAST-MODIFIED:20250829T152800Z
UID:11498-1759392000-1759420800@psalmfm.org
SUMMARY:In-Person Tier 2 Cottage Food Producers Training-Birchdale
DESCRIPTION:There will be an In-Person Tier 2 Cottage Food Producers Training at the Birchdale Community Hall on Thursday\, October 2nd from 8-4. \nThis is a workshop sponsored by the University of Minnesota Extension for those who produce home-based food products to sell. \nA light lunch will be provided. \nNo cost for registration\, as the fee has been covered by a sponsor. \nEmail Autumn Stoll at stoll149@umn.edu\nor call 206-551-2560 to register.
URL:https://psalmfm.org/event/in-person-tier-2-cottage-food-producers-training-birchdale/
END:VEVENT
END:VCALENDAR