BEGIN:VCALENDAR
VERSION:2.0
PRODID:-//PsalmFM - ECPv6.15.20//NONSGML v1.0//EN
CALSCALE:GREGORIAN
METHOD:PUBLISH
X-ORIGINAL-URL:https://psalmfm.org
X-WR-CALDESC:Events for PsalmFM
REFRESH-INTERVAL;VALUE=DURATION:PT1H
X-Robots-Tag:noindex
X-PUBLISHED-TTL:PT1H
BEGIN:VTIMEZONE
TZID:UTC
BEGIN:STANDARD
TZOFFSETFROM:+0000
TZOFFSETTO:+0000
TZNAME:UTC
DTSTART:20240101T000000
END:STANDARD
END:VTIMEZONE
BEGIN:VEVENT
DTSTART;TZID=UTC:20251010T073000
DTEND;TZID=UTC:20251011T233000
DTSTAMP:20260424T001736
CREATED:20250729T154555Z
LAST-MODIFIED:20250806T170657Z
UID:11393-1760081400-1760225400@psalmfm.org
SUMMARY:Bridging the Gap Thrive Women's Conference
DESCRIPTION:The Thrive Conference is the annual conference for Bridging the Gap\, a statewide women’s\nministry for Minnesota.  Featured guests will include Jennie Allen\, Lisa Whittle\, Angie Goetz\,\nSubstance Worship\, Susie Larson and Amber Gerstmann\, as emcees\, and Pamela Steinle and Brooke\nMaxwell\, as workshop emcees. \nThis conference will take place from 12:00 pm–11:30 pm on October 10 and from 7:30 am–4:00\npm on October 11 at the Mayo Civic Center (Rochester\, MN). \nThe purpose of BTG and the Thrive Conference is to encourage\, equip\, and empower every\nwoman on her faith journey with Jesus Christ. BTG invites women (ages 12+) from all cultures\,\ndenominations\, and generations to join together for this event. Thrive attendees will also be invited to\ngive toward a BTG Missions fundraiser during the 10:45 am session on October 10. Funds received will\ngo to support worldwide humanitarian\, missional\, and anti-human trafficking organizations. \nGroup\, adult\, military/senior/single mom and other discounted rates\, and FREE 2025 High\nSchool grad tickets are available. First-time guests at Thrive in Rochester are invited to register for $20!\nAdult Early Bird deadline is August 31. \nRegister at btgthriveconference.org. Use promo code PSALMFM to get 10% off your ticket price.
URL:https://psalmfm.org/event/bridging-the-gap-thrive-womens-conference/
END:VEVENT
END:VCALENDAR